BEGIN:VCALENDAR
VERSION:2.0
PRODID:-//ChamberMaster//Event Calendar 2.0//EN
METHOD:PUBLISH
X-PUBLISHED-TTL:P3D
REFRESH-INTERVAL:P3D
CALSCALE:GREGORIAN
BEGIN:VEVENT
DTSTART:20240530T210000Z
DTEND:20240530T233000Z
X-MICROSOFT-CDO-ALLDAYEVENT:FALSE
SUMMARY:Community Acupuncture with Dr. Sam Prashad at Balance Massage & Wellness Center
DESCRIPTION:Sliding scale $35-$65 per treatment\, held in a cozy\, restful environment.\n\nDr. Samantha Prashad completed her Bachelor's degree at Cornell University. As a premedical student she realized that the Western Medical model did not always get to the root cause of disease. She loves to use five element analysis to hone in on energetic\, psycho-emotional and physiological imbalances in the body. She uses gentle needling techniques that are even tame enough for infants. Dr. Samantha Prashad combines Traditional Chinese Medicine with functional medicine to deliver very individualized treatments. She helps to assess what may be going on at a deeper level energetically\, and uses acupuncture\, cupping\, moxibustion and herbal medicine to rebalance the body.
X-ALT-DESC;FMTTYPE=text/html:<p>Sliding scale $35-$65 per treatment\, held in a cozy\, restful environment.</p>\n\n<p><strong><em>Dr. Samantha Prashad completed her Bachelor&rsquo\;s degree at Cornell University. As a premedical student she realized that the Western Medical model did not always get to the root cause of disease. She loves to use five element analysis to hone in on energetic\, psycho-emotional and physiological imbalances in the body. She uses gentle needling techniques that are even tame enough for infants. Dr. Samantha Prashad combines Traditional Chinese Medicine with functional medicine to deliver very individualized treatments. She helps to assess what may be going on at a deeper level energetically\, and uses acupuncture\, cupping\, moxibustion and herbal medicine to rebalance the body.</em></strong></p>\n
LOCATION:Balance Massage & Wellness Center 135 Day St Newington\, CT 06111
UID:e.3150.12994
SEQUENCE:3
DTSTAMP:20260424T210230Z
URL:https://business.whchamber.com/events/details/community-acupuncture-with-dr-sam-prashad-at-balance-massage-wellness-center-12994
END:VEVENT

END:VCALENDAR
