BEGIN:VCALENDAR
VERSION:2.0
PRODID:-//ChamberMaster//Event Calendar 2.0//EN
METHOD:PUBLISH
X-PUBLISHED-TTL:P3D
REFRESH-INTERVAL:P3D
CALSCALE:GREGORIAN
BEGIN:VEVENT
DTSTART:20220519T160000Z
DTEND:20220519T170000Z
X-MICROSOFT-CDO-ALLDAYEVENT:FALSE
SUMMARY:Common Money Mistakes - Monthly Money Matters
DESCRIPTION:We'll discuss 52 common money mistakes (one for each week of the year!) and how to avoid them.
X-ALT-DESC;FMTTYPE=text/html:<span style="color:rgb(102\, 102\, 102)\; font-family:helvetica neue\,helvetica\,arial\,sans-serif\; font-size:16px">We&#39\;ll discuss 52 common money mistakes (one for each week of the year!) and how to avoid them.</span>
LOCATION:This is an online webinar!
UID:e.3150.9400
SEQUENCE:3
DTSTAMP:20260426T010628Z
URL:https://business.whchamber.com/events/details/common-money-mistakes-monthly-money-matters-9400
END:VEVENT

END:VCALENDAR
