BEGIN:VCALENDAR
VERSION:2.0
PRODID:-//ChamberMaster//Event Calendar 2.0//EN
METHOD:PUBLISH
X-PUBLISHED-TTL:P3D
REFRESH-INTERVAL:P3D
CALSCALE:GREGORIAN
BEGIN:VEVENT
DTSTART:20230409T000000Z
DTEND:20230409T020000Z
X-MICROSOFT-CDO-ALLDAYEVENT:FALSE
SUMMARY:Comedy Nights at Playhouse on Park
DESCRIPTION:90 minutes of laughs! Showtime: 8:00pm Doors open 30 min. prior to show $20.00\, reserved seating BYOB! Vaccination card checks and masks are not required. However\, masks are strongly encouraged.
X-ALT-DESC;FMTTYPE=text/html:90 minutes of laughs! Showtime: 8:00pm Doors open 30 min. prior to show $20.00\, reserved seating BYOB! Vaccination card checks and masks are not required. However\, masks are strongly encouraged.
LOCATION:Playhouse on Park 244 Park Road\, West Hartford\, CT
UID:e.3150.12546
SEQUENCE:3
DTSTAMP:20260425T151753Z
URL:https://business.whchamber.com/events/details/comedy-nights-at-playhouse-on-park-12546
END:VEVENT

END:VCALENDAR
