BEGIN:VCALENDAR
VERSION:2.0
PRODID:-//ChamberMaster//Event Calendar 2.0//EN
METHOD:PUBLISH
X-PUBLISHED-TTL:P3D
REFRESH-INTERVAL:P3D
CALSCALE:GREGORIAN
BEGIN:VEVENT
DTSTART:20220109T010000Z
DTEND:20220109T023000Z
X-MICROSOFT-CDO-ALLDAYEVENT:FALSE
SUMMARY:COMEDY NIGHT at Playhouse on Park
DESCRIPTION:COMEDY NIGHT at Playhouse on Park Saturday\, January 8th\, 2022 8pm $17.50 Doors open 30 minutes prior to show Join us for 90 minutes of laughs with Co-Headliners Brian Scott McFadden and Bob DiBuono! More info & tickets: https://playhouseonpark.org/web2/Season13/comedynite_S13_0108.html Playhouse on Park Box Office: 860-523-5900 x10 BoxOffice@PlayhouseTheatreGroup.org 244 Park Rd. West Hartford\, CT 06119
X-ALT-DESC;FMTTYPE=text/html:COMEDY NIGHT at Playhouse on Park Saturday\, January 8th\, 2022 8pm $17.50 Doors open 30 minutes prior to show Join us for 90 minutes of laughs with Co-Headliners Brian Scott McFadden and Bob DiBuono! More info &amp\; tickets: https://playhouseonpark.org/web2/Season13/comedynite_S13_0108.html Playhouse on Park Box Office: 860-523-5900 x10 BoxOffice@PlayhouseTheatreGroup.org 244 Park Rd. West Hartford\, CT 06119
LOCATION:244 Park Rd West Hartford 06119
UID:e.3150.9251
SEQUENCE:3
DTSTAMP:20260425T192344Z
URL:https://business.whchamber.com/events/details/comedy-night-at-playhouse-on-park-01-08-2022-9251
END:VEVENT

END:VCALENDAR
