BEGIN:VCALENDAR
VERSION:2.0
PRODID:-//ChamberMaster//Event Calendar 2.0//EN
METHOD:PUBLISH
X-PUBLISHED-TTL:P3D
REFRESH-INTERVAL:P3D
CALSCALE:GREGORIAN
BEGIN:VEVENT
DTSTART:20240302T190000Z
DTEND:20240302T200000Z
X-MICROSOFT-CDO-ALLDAYEVENT:FALSE
SUMMARY:Collections: At the Hill-Stead Museum
DESCRIPTION:Join Ballet Hartford at The Hill-Stead Museum for an afternoon of ballet performance\, art\, and interactive movement for children!
X-ALT-DESC;FMTTYPE=text/html:<span style="color:rgb(57\, 54\, 79)\; font-family:-apple-system\,system-ui\,roboto\,helvetica neue\,helvetica\,tahoma\,arial\,sans-serif\; font-size:14px">Join Ballet Hartford at The Hill-Stead Museum for an afternoon of ballet performance\, art\, and interactive movement for children!</span>
LOCATION:Hill-Stead Museum 35 Mountain Road Farmington\, CT 06032
UID:e.3150.12810
SEQUENCE:3
DTSTAMP:20260424T222753Z
URL:https://business.whchamber.com/events/details/collections-at-the-hill-stead-museum-12810
END:VEVENT

END:VCALENDAR
