BEGIN:VCALENDAR
VERSION:2.0
PRODID:-//ChamberMaster//Event Calendar 2.0//EN
METHOD:PUBLISH
X-PUBLISHED-TTL:P3D
REFRESH-INTERVAL:P3D
CALSCALE:GREGORIAN
BEGIN:VEVENT
DTSTART:20250409T223000Z
DTEND:20250410T003000Z
X-MICROSOFT-CDO-ALLDAYEVENT:FALSE
SUMMARY:Heart-Centered Healing-An Immersive Reiki\, Sound and Gratitude Experience
DESCRIPTION:Join us to support YOU! Take 2 hours of self-care to de-stress and support the Go Red for Women - American Heart Association's  Health Awareness and Fundraising Campaign.\n\n \nA Go Red Fundraiser Benefiting the American Heart Association\n\nJoin us for a deeply restorative and uplifting experience in support of the American Heart Association's Go Red For Women. \n\n \n\nStress management is a path to heart health. This two-hour wellness event is designed to relax your body\, calm your mind\, and elevate your spirit all while raising awareness and funds for heart health.\n\n \n\nSnacks and Tea will be shared. \n\n \n\n\n\n??? Donation: $64\n\n(All proceeds benefit American Heart Association's Go Red for Women)\n\nCredit card\, PayPal and ApplePay are accepted.\n\n \n\nPaying with VENMO ensures all of your donation goes to our cause. Please reach out to Gina @ 203-679-1771 or Gina@OdonataReiki.com to register.\n\n \n\nExperience the Healing Power of Sound\, Energy & Gratitude \n\n \n\n\n	Reiki Energy Healing   A gentle yet powerful practice to restore balance and promote relaxation\n	Sound Bath    Allow the soothing vibrations of Tibetan and crystal bowls  to bring you into a state of deep peace. \n	Gratitude Meditation   Using the heart center for love and gratitude\, cultivate a sense of appreciation and emotional well-being through mindful reflection.\n	Journaling - to put words to the thoughts\, feelings and intentions that arise.\n\n\n \n\nThis event welcomes anyone looking to reduce stress\, find inner peace while supporing a cause that educates and SAVES LIVES!\n\n \n\nWhat to bring: \n\nA mat\, blanket\, and anything else you need for your comfort while meditating. Chairs will be available. \n\n \n\nThe evening's facilitators: \n\n\n	Erika Dworkin\, BCHN \n\n	Board Certified in Holistic Nutrition? \n\n	Dietary Supplements Specialist \n\n	Intuitive Wellness Guide\n	Gina Ferrara\, MA\, BC/DMT\, Master of Reiki and Vibrational Healing \n	Kristine Loomis\, LMT\, Reiki Master  \n\n\nSpots are limited reserve your space today!\n\nThanks for donating to yourself and to Go Red for Women. Because this is a fundraising event\, ticket sales are final and donations are non-refundable. Feel good about your choices!
X-ALT-DESC;FMTTYPE=text/html:Join us to support YOU! Take 2 hours of self-care to de-stress and support the Go Red for Women - American Heart Association&#39\;s&nbsp\; Health Awareness and Fundraising Campaign.<br />\n&nbsp\;\n<p><em>A Go Red Fundraiser Benefiting the American Heart Association</em></p>\n\n<p>Join us for a&nbsp\;<strong>deeply restorative and uplifting experience</strong>&nbsp\;in support of the&nbsp\;<strong>American Heart Association&rsquo\;s Go Red For Women</strong>.&nbsp\;</p>\n\n<p>&nbsp\;</p>\n\n<p>Stress management is a path to heart health. This&nbsp\;<strong>two-hour wellness event</strong>&nbsp\;is designed to relax your body\, calm your mind\, and elevate your spirit&mdash\;all while raising awareness and funds for heart health.</p>\n\n<p>&nbsp\;</p>\n\n<p>Snacks and Tea will be shared.&nbsp\;</p>\n\n<p>&nbsp\;</p>\n\n<p><br />\n???&nbsp\;<strong>Donation:</strong>&nbsp\;<em>$64</em></p>\n\n<p><em>(All proceeds benefit American Heart Association&#39\;s Go Red for Women)</em></p>\n\n<p><em>Credit card\, PayPal and ApplePay are accepted.</em></p>\n\n<p>&nbsp\;</p>\n\n<p><em>Paying with&nbsp\;</em><em><strong>VENMO e</strong>nsures all of your donation goes to our cause.<strong>&nbsp\;Please reach out to Gina @ 203-679-1771 or&nbsp\;<a href="mailto:Gina@OdonataReiki.com" style="box-sizing: border-box\; background-color: transparent\; color: rgb(51\, 122\, 183)\; text-decoration-line: none\; user-select: auto\;">Gina@OdonataReiki.com</a>&nbsp\;to register.</strong></em></p>\n\n<p>&nbsp\;</p>\n\n<p><strong>Experience the Healing Power of Sound\, Energy &amp\; Gratitude&nbsp\;</strong></p>\n\n<p>&nbsp\;</p>\n\n<ul>\n	<li><strong>Reiki Energy Healing</strong>&nbsp\;&ndash\; A gentle yet powerful practice to restore balance and promote relaxation</li>\n	<li><strong>Sound Bath&nbsp\;</strong>&nbsp\;&ndash\; Allow the soothing vibrations of&nbsp\;<strong>Tibetan and crystal bowls &nbsp\;</strong>to<strong>&nbsp\;</strong>bring you into a state of deep peace.&nbsp\;</li>\n	<li><strong>Gratitude Meditation</strong>&nbsp\;&ndash\; Using the heart center for love and gratitude\, cultivate a sense of appreciation and emotional well-being through mindful reflection.</li>\n	<li><strong>Journaling</strong>&nbsp\;- to put words to the thoughts\, feelings and intentions that arise.</li>\n</ul>\n\n<p>&nbsp\;</p>\n\n<p>This event welcomes anyone looking to&nbsp\;<strong>reduce stress\, find inner peace while supporing a cause that educates and SAVES LIVES!</strong></p>\n\n<p>&nbsp\;</p>\n\n<p><strong><em><span style="font-family:georgia\,times\,times new roman\,serif">What to bring:&nbsp\;<br />\nA mat\, blanket\, and anything else you need for your comfort while meditating. Chairs will be available.&nbsp\;</span></em></strong></p>\n\n<p>&nbsp\;</p>\n\n<p><strong>The evening&#39\;s facilitators:&nbsp\;</strong></p>\n\n<ul>\n	<li style="text-align:start"><strong><em><u>Erika Dworkin</u></em>\,</strong>&nbsp\;<strong>BCHN</strong><span style="font-family:wordvisicarriagereturn_msfontservice\,oxygen\,oxygen_embeddedfont\,oxygen_msfontservice\,sans-serif\; font-size:12pt">&nbsp\;</span><br />\n	<strong>Board Certified in Holistic Nutrition</strong><strong>?</strong><span style="font-family:wordvisicarriagereturn_msfontservice\,oxygen\,oxygen_embeddedfont\,oxygen_msfontservice\,sans-serif\; font-size:10pt">&nbsp\;</span><br />\n	<strong>Dietary Supplements Specialist</strong><span style="font-family:wordvisicarriagereturn_msfontservice\,oxygen\,oxygen_embeddedfont\,oxygen_msfontservice\,sans-serif\; font-size:12pt">&nbsp\;</span><br />\n	<strong>Intuitive Wellness Guide</strong></li>\n	<li style="text-align:start"><strong><em><u>Gina Ferrara\,</u></em>&nbsp\;MA\, BC/DMT\, Master of Reiki and Vibrational Healing&nbsp\;</strong></li>\n	<li style="text-align:start"><strong><em><u>Kristine Loomis</u></em>\, LMT\, Reiki Master &nbsp\;</strong></li>\n</ul>\n\n<p><strong>Spots are limited&mdash\;reserve your space today!</strong></p>\n\n<p>Thanks for donating to yourself and to Go Red for Women. Because this is a fundraising event\,&nbsp\;<strong>ticket sales are final and donations are non-refundable.</strong>&nbsp\;Feel good about your choices!&nbsp\;</p>\n<br />\n<br />\n&nbsp\;
LOCATION:Bridge Healing Arts Center 304 Main Street Farmington CT
UID:e.3150.15905
SEQUENCE:3
DTSTAMP:20260424T070413Z
URL:https://business.whchamber.com/events/details/collaborative-wellness-semainar-diabetes-health-and-wellness-including-reiki-and-sound-healing-15905
END:VEVENT

END:VCALENDAR
