BEGIN:VCALENDAR
VERSION:2.0
PRODID:-//ChamberMaster//Event Calendar 2.0//EN
METHOD:PUBLISH
X-PUBLISHED-TTL:P3D
REFRESH-INTERVAL:P3D
CALSCALE:GREGORIAN
BEGIN:VEVENT
DTSTART:20240414T190000Z
DTEND:20240414T210000Z
X-MICROSOFT-CDO-ALLDAYEVENT:FALSE
SUMMARY:Cocktail Making Class
DESCRIPTION:Be the first to craft our spring cocktails guided by our expert bartenders!\n\nGreat for small groups or individuals wanting to mingle we'll provide everything you need for the perfect Sunday afternoon activity. A ticket includes beverage supplies\, food\, and instruction time. Take home your new recipes to impress family\, friends\, and lovers alike!\n\n	Instruction of two spring cocktails\, including tools and techniques\n	Learn how to work with different spirits\, flavor profiles\, + mixology tools\n	Learn how specialty liquors + ingredients are made and their origin stories\n	Enjoy a delicious tapas spread while crafting your cocktails
X-ALT-DESC;FMTTYPE=text/html:<span style="font-family:arial\,helvetica\,sans-serif"><span style="font-size:16px">Be the first to craft our spring cocktails guided by our expert bartenders!</span></span><br />\n<span style="font-size:12px"><span style="background-color:rgb(250\, 250\, 250)\; color:rgb(42\, 42\, 42)\; font-family:gt america\,sans-serif">Great for small groups or individuals wanting to mingle&ndash\;we&rsquo\;ll provide everything you need for the perfect Sunday afternoon activity. A ticket includes beverage supplies\, food\, and instruction time. Take home your new recipes to impress family\, friends\, and lovers alike!</span></span>\n<ul>\n	<li><span style="font-size:12px"><span style="font-family:arial\,helvetica\,sans-serif">Instruction of two spring cocktails\, including tools and techniques</span></span></li>\n	<li><span style="font-size:12px"><span style="font-family:arial\,helvetica\,sans-serif">Learn how to work with different spirits\, flavor profiles\, + mixology tools</span></span></li>\n	<li><span style="font-size:12px"><span style="font-family:arial\,helvetica\,sans-serif">Learn how specialty liquors + ingredients are made and their origin stories</span></span></li>\n	<li><span style="font-family:arial\,helvetica\,sans-serif"><span style="font-size:12px">Enjoy a delicious tapas spread while crafting your cocktails</span></span></li>\n</ul>\n
LOCATION:Blue Back Square - 46 S Main St\, West Hartford\, CT 06107
UID:e.3150.12952
SEQUENCE:3
DTSTAMP:20260424T222549Z
URL:https://business.whchamber.com/events/details/cocktail-making-class-12952
END:VEVENT

END:VCALENDAR
