BEGIN:VCALENDAR
VERSION:2.0
PRODID:-//ChamberMaster//Event Calendar 2.0//EN
METHOD:PUBLISH
X-PUBLISHED-TTL:P3D
REFRESH-INTERVAL:P3D
CALSCALE:GREGORIAN
BEGIN:VEVENT
DTSTART:20221208T220000Z
DTEND:20221209T010000Z
X-MICROSOFT-CDO-ALLDAYEVENT:FALSE
SUMMARY:June Archer Hosts CMWP's Networking Holiday Fundraiser
DESCRIPTION:Don't Miss CMWP's Holiday Fundraiser hosted by June Archer with music by DJ Q-Boogie!\n\n \nK?ck off the holiday season with CMWP! Join us for networking\, connections\, delicious food\, and FUN!!\n\nEach attendee will receive one (1) drink ticket.\n\nA portion of ticket proceeds will be donated to The Village for Families & Children.\n\nDonations welcome!
X-ALT-DESC;FMTTYPE=text/html:<span style="color:rgb(57\, 54\, 79)\; font-family:neue plak\,-apple-system\,blinkmacsystemfont\,roboto\,helvetica neue\,helvetica\,tahoma\,arial\,sans-serif\; font-size:14px">Don&#39\;t Miss CMWP&#39\;s Holiday Fundraiser hosted by June Archer with music by DJ Q-Boogie!</span><br />\n&nbsp\;\n<p>K?ck off the holiday season with CMWP! Join us for networking\, connections\, delicious food\, and FUN!!</p>\n\n<p>Each attendee will receive one (1) drink ticket.</p>\n\n<p>A portion of ticket proceeds will be donated to The Village for Families &amp\; Children.</p>\n\n<p>Donations welcome!</p>\n
LOCATION:The Russell Restaurant 187 Allyn Street Hartford\, CT 06103
UID:e.3150.12422
SEQUENCE:3
DTSTAMP:20260425T224229Z
URL:https://business.whchamber.com/events/details/cmwp-s-networking-holiday-fundraiser-12422
END:VEVENT

END:VCALENDAR
