BEGIN:VCALENDAR
VERSION:2.0
PRODID:-//ChamberMaster//Event Calendar 2.0//EN
METHOD:PUBLISH
X-PUBLISHED-TTL:P3D
REFRESH-INTERVAL:P3D
CALSCALE:GREGORIAN
BEGIN:VEVENT
DTSTART:20220915T210000Z
DTEND:20220915T230000Z
X-MICROSOFT-CDO-ALLDAYEVENT:FALSE
SUMMARY:CMWP Small Business Networking
DESCRIPTION:Join CMWP & network with local Black and minority small businesses. Presented by Capitol Region Council of Governments (CRCOG).\n\n\n\nAbout this event\n\n\n\n\nNetwork with CMWP Foundation\, Inc. and local businesses for a quarterly business networking meetup!!\n\nThis event will provide opportunities for Black and minority business owners to connect with other businesses\, discuss important topics\, partner\, and collaborate with their business peers.\n\nIncludes a delicious buffet prepared by The Russell and 1 drink ticket!\n\nAdmission is FREE.
X-ALT-DESC;FMTTYPE=text/html:<div>\n<p><strong>Join CMWP &amp\; network with local Black and minority small businesses. Presented by Capitol Region Council of Governments (CRCOG).</strong></p>\n</div>\n\n<div>\n<h2>About this event</h2>\n\n<div>\n<div>\n<div>\n<p>Network with CMWP Foundation\, Inc. and local businesses for a quarterly business networking meetup!!</p>\n\n<p>This event will provide opportunities for Black and minority business owners to connect with other businesses\, discuss important topics\, partner\, and collaborate with their business peers.</p>\n\n<p>Includes a delicious buffet prepared by The Russell and 1 drink ticket!</p>\n\n<p>Admission is FREE.</p>\n</div>\n</div>\n</div>\n</div>\n
LOCATION:The Russell Restaurant 187 Allyn Street Hartford\, CT 06103
UID:e.3150.11236
SEQUENCE:3
DTSTAMP:20260426T012649Z
URL:https://business.whchamber.com/events/details/cmwp-11236
END:VEVENT

END:VCALENDAR
