BEGIN:VCALENDAR
VERSION:2.0
PRODID:-//ChamberMaster//Event Calendar 2.0//EN
METHOD:PUBLISH
X-PUBLISHED-TTL:P3D
REFRESH-INTERVAL:P3D
CALSCALE:GREGORIAN
BEGIN:VEVENT
DTSTART:20230118T220000Z
DTEND:20230118T233000Z
X-MICROSOFT-CDO-ALLDAYEVENT:FALSE
SUMMARY:Closing the Deal in Less Time
DESCRIPTION:Closing the Deal in Less Time Wednesday\, January 18\, 2023\, 5   6:30 p.m.\n			\n		\n	\n\n\n\n	\n		\n			\n			Learn how to attract new leads and close more deals in less time by improving your time management skills. We'll provide you with tools that will help you plan your time more realistically\, prioritize and delegate tasks\, and identify goals.\n\n			We'll also introduce the Women's Business Roundtable: Sales Mindset 2.0\, which will run monthly from March to July. The Roundtable provides a forum of experts and peers who will help strengthen your marketing and sales strategies through small group training sessions\, 1-on-1 support\, and networking opportunities. Identify your most lucrative niche\, create a visibility plan\, and nurture a positive sales mindset that will help you close more deals than ever before.\n\n			Register:  https://bit.ly/3W0DBTW\n\n			  Presenter:  Janet Johnson\, MyMoneyPivot
X-ALT-DESC;FMTTYPE=text/html:<table border="0" cellpadding="0" cellspacing="0" style="border-collapse:collapse\; color:rgb(34\, 34\, 34)\; font-family:lato\,helvetica neue\,helvetica\,arial\,sans-serif\; font-size:16px\; text-size-adjust:100%">\n	<tbody>\n		<tr>\n			<td>\n			<h2>Closing the Deal in Less Time Wednesday\, January 18\, 2023\, 5&nbsp\;&ndash\;&nbsp\;6:30&nbsp\;p.m.</h2>\n			</td>\n		</tr>\n	</tbody>\n</table>\n\n<table border="0" cellpadding="0" cellspacing="0" style="border-collapse:collapse\; color:rgb(34\, 34\, 34)\; font-family:lato\,helvetica neue\,helvetica\,arial\,sans-serif\; font-size:16px\; text-size-adjust:100%">\n	<tbody>\n		<tr>\n			<td>\n			<p>Learn how to attract new leads and close more deals in less time by improving your time management skills. We&rsquo\;ll provide you with tools that will help you plan your time more realistically\, prioritize and delegate tasks\, and identify goals.</p>\n\n			<p>We&rsquo\;ll also introduce the Women&rsquo\;s Business Roundtable: Sales Mindset 2.0\, which will run monthly from March to July. The Roundtable provides a forum of experts and peers who will help strengthen your marketing and sales strategies through small group training sessions\, 1-on-1 support\, and networking opportunities. Identify your most lucrative niche\, create a visibility plan\, and nurture a positive sales mindset that will help you close more deals than ever before.</p>\n\n			<p>Register:&nbsp\;&nbsp\;<a href="https://bit.ly/3W0DBTW" rel="noopener" style="text-size-adjust: 100%\; color: rgb(0\, 124\, 137)\;" target="_blank">https://bit.ly/3W0DBTW</a></p>\n\n			<p>&nbsp\; Presenter: &nbsp\;Janet Johnson\, MyMoneyPivot</p>\n			</td>\n		</tr>\n	</tbody>\n</table>\n
LOCATION:
UID:e.3150.12466
SEQUENCE:3
DTSTAMP:20260425T205620Z
URL:https://business.whchamber.com/events/details/closing-the-deal-in-less-time-12466
END:VEVENT

END:VCALENDAR
