BEGIN:VCALENDAR
VERSION:2.0
PRODID:-//ChamberMaster//Event Calendar 2.0//EN
METHOD:PUBLISH
X-PUBLISHED-TTL:P3D
REFRESH-INTERVAL:P3D
CALSCALE:GREGORIAN
BEGIN:VEVENT
DTSTART:20220310T200000Z
DTEND:20220310T203000Z
X-MICROSOFT-CDO-ALLDAYEVENT:FALSE
SUMMARY:CLA Livestream: Tax Reporting for COVID Relief Programs
DESCRIPTION:This week's livestream offers tax guidance and reminders for organizations that received funds from economic relief programs. Register now!\n\nTax Reporting for COVID Relief Programs : 2022 : Events : CLA (CliftonLarsonAllen) (claconnect.com)\nCan't make it?\nFill out the registration form and you will receive an email with the recording following the event.
X-ALT-DESC;FMTTYPE=text/html:<span style="font-family:museosans-300\,arial\,sans-serif\; font-size:18px">This week&rsquo\;s livestream offers tax guidance and reminders for organizations that received funds from economic relief programs. Register now!</span><br />\n<a href="https://www.claconnect.com/events/2022/3-10-2022-cla-livestream?utm_medium=email&amp\;_hsmi=206174647&amp\;_hsenc=p2ANqtz-9bzl5z2Za9aUws-H8ZwW96qQ0GIgZySb-pTcH3qNirwQHzfbxKHM32QO8wBFTjO5DZQRlG_N4FnH5xE631qybYca6yM4j-zDtRSH-1Y_S6OEdYoXI&amp\;utm_content=206174647&amp\;utm_source=hs_email#hubspot">Tax Reporting for COVID Relief Programs : 2022 : Events : CLA (CliftonLarsonAllen) (claconnect.com)</a>\n<h2><span style="color:#2E334E"><span style="font-family:georgia\,serif"><span style="font-size:12.0pt">Can&#39\;t make it?</span></span></span></h2>\n<span style="color:#25282A"><span style="font-family:arial\,sans-serif"><span style="font-size:10.5pt">Fill out the registration form and you will receive an email with the recording following the event.</span></span></span><br />\n&nbsp\;
LOCATION:Livestream
UID:e.3150.9363
SEQUENCE:3
DTSTAMP:20260425T220859Z
URL:https://business.whchamber.com/events/details/cla-tax-reporting-for-covid-relief-programs-9363
END:VEVENT

END:VCALENDAR
