BEGIN:VCALENDAR
VERSION:2.0
PRODID:-//ChamberMaster//Event Calendar 2.0//EN
METHOD:PUBLISH
X-PUBLISHED-TTL:P3D
REFRESH-INTERVAL:P3D
CALSCALE:GREGORIAN
BEGIN:VEVENT
DTSTART:20220302T170000Z
DTEND:20220302T180000Z
X-MICROSOFT-CDO-ALLDAYEVENT:FALSE
SUMMARY:CLA - Prepare Your Portfolio for Higher Interest Rates and Taxes\; Quarterly Economic Outlook Series Session 1
DESCRIPTION:In the first webinar in our complimentary Quarterly Economic Outlook series\, we'll discuss how to prepare your portfolio for possible higher interest rates and taxes in the first quarter. Economic data shows the reopening is real. Consumer spending\, housing prices\, and employment rates are bouncing back. What does this mean for interest rates and inflation? Join us on March 2 to learn how to prepare your portfolio for changing rates.\n\n \nUpcoming Webinars:\n\n\n	March 2   Prepare Your Portfolio for Higher Interest Rates and Taxes (Q1)\n	June 1   Dig Deeper for Bottom-line Growth (Q2)\n	September 7   Seek Diversification in Alternatives (Q3)\n	December 7   Invest Sustainably with ESG (Q4)\n\n\nWho should attend\nThis session is designed for individual taxpayers.\n\n \nSpeakers\n\n\n	Clayton Bland\, Chief Wealth Advisory Officer\, CliftonLarsonAllen Wealth Advisors\, LLC\n	Chris Dhanraj\, Managing Principal of Investments\, CliftonLarsonAllen Wealth Advisors\, LLC\n\n\nCan't make the webinar?\nFill out the webinar registration\, and you will receive an email with the webinar recording and slides following the event. Also\, check out our event calendar to see what else is happening.
X-ALT-DESC;FMTTYPE=text/html:<span style="color:#25282A"><span style="font-family:arial\,sans-serif"><span style="font-size:10.5pt">In the first webinar in our <strong>complimentary</strong> Quarterly Economic Outlook series\, we&rsquo\;ll discuss how to prepare your portfolio for possible higher interest rates and taxes in the first quarter. Economic data shows the reopening is real. Consumer spending\, housing prices\, and employment rates are bouncing back. What does this mean for interest rates and inflation? Join us on March 2 to learn how to prepare your portfolio for changing rates.</span></span></span><br />\n&nbsp\;\n<h2><span style="color:#2E334E"><span style="font-family:georgia\,serif"><span style="font-size:12.0pt">Upcoming Webinars:</span></span></span></h2>\n\n<ul>\n	<li><span style="font-family:arial\,sans-serif"><span style="font-size:10.5pt">March 2 &mdash\;&nbsp\;Prepare Your Portfolio for Higher Interest Rates and Taxes (Q1)</span></span></li>\n	<li><span style="font-family:arial\,sans-serif"><span style="font-size:10.5pt">June 1 &mdash\; Dig Deeper for Bottom-line Growth (Q2)</span></span></li>\n	<li><span style="font-family:arial\,sans-serif"><span style="font-size:10.5pt">September 7 &mdash\; Seek Diversification in Alternatives (Q3)</span></span></li>\n	<li><span style="font-family:arial\,sans-serif"><span style="font-size:10.5pt">December 7 &mdash\; Invest Sustainably with ESG (Q4)</span></span></li>\n</ul>\n\n<h2><strong><span style="color:#2E334E"><span style="font-family:georgia\,serif"><span style="font-size:12.0pt">Who should attend</span></span></span></strong></h2>\n<span style="color:#25282A"><span style="font-family:arial\,sans-serif"><span style="font-size:10.5pt">This session is designed for individual taxpayers.</span></span></span><br />\n&nbsp\;\n<h2><strong><span style="color:#2E334E"><span style="font-family:georgia\,serif"><span style="font-size:12.0pt">Speakers</span></span></span></strong></h2>\n\n<ul>\n	<li><span style="font-family:arial\,sans-serif"><span style="font-size:10.5pt"><a href="https://emails.claconnect.com/e3t/Btc/I3+113/cnZxW04/VV_c246ZTMZKW5C-LGn4RQn95W1h36Dw4Fy270N2K0T3m3lLBGV1-WJV7CgYQSW4JL-c994Xx_WW11kWBy7JMgkBW5BSZTC1JnvSsW4CLCpv4K4T7XW4cHnN74dn158W4vm-GW2scNJFW2y_x5k19tqjsW29fjkQ5Kyj9wW4RMlKr8BBQ7cW5HRGBP3V-LkPVN-bZ73VGgdgW31CSPZ2HHHhgW2ZskWh2PtXKCW43CnKQ7sWpypW2S2zsV1StX-VW8GSjPs3n7RpWW7ZV6C_3NVCXQW5J8cQg145zcjW7gfVvh8Vhz-0W6jcC1q36LQ2_W853ZqB3j5mh9W5VFYGX5BR4S0W7WKH4_55w3GjW7JTSlb9bKL5d39Sw1" target="_blank"><strong><span style="color:#2E334E">Clayton Bland</span></strong></a>\, Chief Wealth Advisory Officer\, CliftonLarsonAllen Wealth Advisors\, LLC</span></span></li>\n	<li><span style="font-family:arial\,sans-serif"><span style="font-size:10.5pt"><a href="https://emails.claconnect.com/e3t/Btc/I3+113/cnZxW04/VV_c246ZTMZKW5C-LGn4RQn95W1h36Dw4Fy270N2K0T3m3lLBGV1-WJV7CgM8QW3wtYY_2H-bJqN2VgbqBzkr64W6lH-g_85MTjcW4hMrmg52x0lQW7Rws6c4HLpfnW5LMP1g5sgpZMW8nXsjb1KJ4fGW3wYrct7_93lpW8p9wDg7mNhXSW589mWJ2rrm2VT5ZJx62mjLKN4RymXR618FjW1lFT3H1LKK1rN7bBXMzPtld_W1GzyJx94x04TW7wfCks2h0m5-N2wJh4SwtyFLVcNb748RnmR3W2fn53P887LsqW4YcqT82Xn9pLMwD39rFK7KwW2vRzFc99TftnW3Grcq72gyHBGW91Dk4c78J8qw3qpb1" target="_blank"><strong><span style="color:#2E334E">Chris Dhanraj</span></strong></a>\, Managing Principal of Investments\, CliftonLarsonAllen Wealth Advisors\, LLC</span></span></li>\n</ul>\n\n<h2><span style="color:#2E334E"><span style="font-family:georgia\,serif"><span style="font-size:12.0pt">Can&#39\;t make the webinar?</span></span></span></h2>\n<span style="color:#25282A"><span style="font-family:arial\,sans-serif"><span style="font-size:10.5pt">Fill out the webinar registration\, and you will receive an email with the webinar recording and slides following the event. Also\, check out our <a href="https://emails.claconnect.com/e3t/Btc/I3+113/cnZxW04/VV_c246ZTMZKW5C-LGn4RQn95W1h36Dw4Fy270N2K0T2N3lLB3V1-WJV7CgG2pW1DlK3m2C-yF6W6pXBBk1v70ryW8Z87gF2fHL-MW16145H5t4CTPW6k3zh_8Brm83W1mR2wS8nv29NW47th2G7bw-HxW5Ty-S16dgz-jW7R_wwJ5gMCnrW4MT-tQ6_3B4HV4tfc12XPKYBW7wG7_k9j3JYnW2Hj3Tw6dZp4WW4v6Bxr14_WKCW8h_vnr20NNQ7W2xC5_K43sRJsW5QDdnt5qt4DKW4zzXQ77mzVv2W46SK0V671ZYsW2-LPCq8KR3gt3bpF1" target="_blank"><strong><span style="color:#2E334E">event calendar</span></strong></a> to see what else is happening.</span></span></span><br />\n&nbsp\;
LOCATION:Virtual - Group Internet Based Webinar This is a CLA Hosted Webinar For more information and to register: Economic Outlook Prepare Your Portfolio for Higher Interest Rates and Taxes : 2022 : Events : CLA (CliftonLarsonAllen) (claconnect.com)
UID:e.3150.9322
SEQUENCE:3
DTSTAMP:20260425T221206Z
URL:https://business.whchamber.com/events/details/cla-prepare-your-portfolio-for-higher-interest-rates-and-taxes-quarterly-economic-outlook-series-session-1-9322
END:VEVENT

END:VCALENDAR
