BEGIN:VCALENDAR
VERSION:2.0
PRODID:-//ChamberMaster//Event Calendar 2.0//EN
METHOD:PUBLISH
X-PUBLISHED-TTL:P3D
REFRESH-INTERVAL:P3D
CALSCALE:GREGORIAN
BEGIN:VEVENT
DTSTART:20220223T170000Z
DTEND:20220223T180000Z
X-MICROSOFT-CDO-ALLDAYEVENT:FALSE
SUMMARY:CLA - Nonprofit Lease Implementation Update and Common Practices
DESCRIPTION:The new lease standard is here and effective now! Join us for a complimentary webinar that will discuss the basics of the new lease standard in addition to highlighting areas specific to nonprofit organizations. Learn what you need to be doing now as your organization prepares for implementation.\n\nAt the end of this session\, you will be able to:\n\n\n	Recognize the changes associated with the new lease standard\n	Identify helpful tips on implementation and how CLA can help\n\n\nWho should attend\n\nThis session is designed for finance teams\, management\, executives\, and board members of nonprofit organizations.\n\n\nCPE\n\nRecommended CPE: 1 credit\, Accounting\n\nPrerequisites: None\n\nProgram level: Overview\n\nAdvance preparation: None\n\nDelivery method: Group Internet Based
X-ALT-DESC;FMTTYPE=text/html:<div>\n<p>The new lease standard is here and effective now! Join us for a&nbsp\;<strong>complimentary</strong>&nbsp\;webinar that will discuss the basics of the new lease standard in addition to highlighting areas specific to nonprofit organizations. Learn what you need to be doing now as your organization prepares for implementation.</p>\n\n<h2>At the end of this session\, you will be able to:</h2>\n\n<ul style="margin-left:0px\; margin-right:0px">\n	<li>Recognize the changes associated with the new lease standard</li>\n	<li>Identify helpful tips on implementation and how CLA can help</li>\n</ul>\n\n<h2>Who should attend</h2>\n\n<p>This session is designed for finance teams\, management\, executives\, and board members of nonprofit organizations.</p>\n</div>\n\n<h2>CPE</h2>\n\n<div>Recommended CPE: 1 credit\, Accounting<br />\nPrerequisites: None<br />\nProgram level: Overview<br />\nAdvance preparation: None<br />\nDelivery method: Group Internet Based</div>\n
LOCATION:Virtual - Group Internet Based Webinar This is a CLA Hosted Webinar For more information and to register: Nonprofit Lease Implementation Update and Common Practices : 2022 : Events : CLA (CliftonLarsonAllen) (claconnect.com)
UID:e.3150.9321
SEQUENCE:3
DTSTAMP:20260425T203334Z
URL:https://business.whchamber.com/events/details/cla-nonprofit-lease-implementation-update-and-common-practices-9321
END:VEVENT

END:VCALENDAR
