BEGIN:VCALENDAR
VERSION:2.0
PRODID:-//ChamberMaster//Event Calendar 2.0//EN
METHOD:PUBLISH
X-PUBLISHED-TTL:P3D
REFRESH-INTERVAL:P3D
CALSCALE:GREGORIAN
BEGIN:VEVENT
DTSTART:20220127T200000Z
DTEND:20220127T203000Z
X-MICROSOFT-CDO-ALLDAYEVENT:FALSE
SUMMARY:CLA Livestream: New Year Reset
DESCRIPTION:New Year Reset\n\nRegister for this week's CLA (CliftonLarsonAllen LLP) Livestream!\n\nNew Year Reset : 2022 : Events : CLA (CliftonLarsonAllen) (claconnect.com)\n\nThis week's livestream will discuss how employers can start fresh in 2022 as they make plans for managing risk\, business sales\, and facing tax/estate issues. Register now!
X-ALT-DESC;FMTTYPE=text/html:<strong>New Year Reset<br />\nRegister for this week&#39\;s CLA (CliftonLarsonAllen LLP) Livestream!</strong><br />\n<a href="https://www.claconnect.com/events/2022/1-27-2022-cla-livestream">New Year Reset : 2022 : Events : CLA (CliftonLarsonAllen) (claconnect.com)</a><br />\n<span style="font-family:museosans-300\,arial\,sans-serif\; font-size:18px">This week&rsquo\;s livestream will discuss how employers can start fresh in 2022 as they make plans for managing risk\, business sales\, and facing tax/estate issues. Register now!</span>
LOCATION:Virtual Event - CLA Hosted Livestream
UID:e.3150.9315
SEQUENCE:3
DTSTAMP:20260425T191240Z
URL:https://business.whchamber.com/events/details/cla-livestream-new-year-reset-9315
END:VEVENT

END:VCALENDAR
