BEGIN:VCALENDAR
VERSION:2.0
PRODID:-//ChamberMaster//Event Calendar 2.0//EN
METHOD:PUBLISH
X-PUBLISHED-TTL:P3D
REFRESH-INTERVAL:P3D
CALSCALE:GREGORIAN
BEGIN:VEVENT
DTSTART:20220823T160000Z
DTEND:20220823T170000Z
X-MICROSOFT-CDO-ALLDAYEVENT:FALSE
SUMMARY:CLA - Leveraging Tax Credits and Incentives to Enhance Cash Flow for Your Startup Company
DESCRIPTION:CLA professionals will discuss key credits and incentives that could help early-stage companies generate cash tax savings and improve cash flow. Topics will include the research and development tax credit\, the employee retention credit\, and various state/local incentives that may be available in the form of tax credits\, refunds\, and grants.\n\nAt the end of this session\, you will be able to:\n\n\n	Indicate how the R&D and employee retention credits can help reduce tax liability\n	Identify how these credits can be claimed on current and amended tax returns\n	Describe how state credit programs operate\n	Describe the differences between tax credits\, abatements\, and grants\n	Recall whether your company may be eligible for these various incentives\n\n\nWho should attend\n\nThis session is designed for start-up company founders\, finance and operations executives\, and service providers serving early-stage businesses.\n\nPlease register by August 22nd\, 2022.\n\nCan't make the webinar?\n\nFill out the registration\, and you will receive an email with the webinar recording and slides following the event. Recorded webinars are not eligible for CPE. Also\, check out our event calendar to see what else is happening.\n\n\nCPE\n\n\nRecommended CPE: 1 credit\, Taxes\n\nPrerequisites: None\n\nProgram level: Overview\n\nAdvance preparation: None\n\nDelivery method: Group Internet Based
X-ALT-DESC;FMTTYPE=text/html:<div>\n<p>CLA professionals will discuss key credits and incentives that could help early-stage companies generate cash tax savings and improve cash flow. Topics will include the research and development tax credit\, the employee retention credit\, and various state/local incentives that may be available in the form of tax credits\, refunds\, and grants.</p>\n\n<h2>At the end of this session\, you will be able to:</h2>\n\n<ul style="margin-left:0px\; margin-right:0px">\n	<li>Indicate how the R&amp\;D and employee retention credits can help reduce tax liability</li>\n	<li>Identify how these credits can be claimed on current and amended tax returns</li>\n	<li>Describe how state credit programs operate</li>\n	<li>Describe the differences between tax credits\, abatements\, and grants</li>\n	<li>Recall whether your company may be eligible for these various incentives</li>\n</ul>\n\n<h2>Who should attend</h2>\n\n<p>This session is designed for start-up company founders\, finance and operations executives\, and service providers serving early-stage businesses.</p>\n\n<p>Please&nbsp\;<a href="https://goto.webcasts.com/starthere.jsp?ei=1556345&amp\;tp_key=2266aa8c90" style="box-sizing: inherit\; outline: none\; background: rgba(0\, 0\, 0\, 0)\; color: rgb(45\, 60\, 89)\; text-decoration-line: none\; line-height: inherit\; transition: color 0.3s ease 0s\, background-color 0.3s ease 0s\; overflow-wrap: break-word\; font-size: inherit\; font-weight: 700\; font-family: MuseoSans\, arial\, sans-serif\;">register</a>&nbsp\;by August 22nd\, 2022.</p>\n\n<h2>Can&rsquo\;t make the webinar?</h2>\n\n<p>Fill out the registration\, and you will receive an email with the webinar recording and slides following the event. Recorded webinars are not eligible for CPE. Also\, check out our&nbsp\;<a href="https://www.claconnect.com/en/events" style="box-sizing: inherit\; outline: none\; background: rgba(0\, 0\, 0\, 0)\; color: rgb(45\, 60\, 89)\; text-decoration-line: none\; line-height: inherit\; transition: color 0.3s ease 0s\, background-color 0.3s ease 0s\; overflow-wrap: break-word\; font-size: inherit\; font-weight: 700\; font-family: MuseoSans\, arial\, sans-serif\;">event calendar</a>&nbsp\;to see what else is happening.</p>\n</div>\n\n<h2>CPE</h2>\n\n<div>\n<p>Recommended CPE: 1 credit\, Taxes<br />\nPrerequisites: None<br />\nProgram level: Overview<br />\nAdvance preparation: None<br />\nDelivery method: Group Internet Based</p>\n</div>\n
LOCATION:Webinar Group Internet Based
UID:e.3150.10562
SEQUENCE:3
DTSTAMP:20260426T042257Z
URL:https://business.whchamber.com/events/details/cla-leveraging-tax-credits-and-incentives-to-enhance-cash-flow-for-your-startup-company-10562
END:VEVENT

END:VCALENDAR
