BEGIN:VCALENDAR
VERSION:2.0
PRODID:-//ChamberMaster//Event Calendar 2.0//EN
METHOD:PUBLISH
X-PUBLISHED-TTL:P3D
REFRESH-INTERVAL:P3D
CALSCALE:GREGORIAN
BEGIN:VEVENT
DTSTART:20220802T160000Z
DTEND:20220802T170000Z
X-MICROSOFT-CDO-ALLDAYEVENT:FALSE
SUMMARY:CLA - Creative Strategies for Workforce Challenges in Health Care
DESCRIPTION:Health care organizations are struggling to find the right talent\, manage special projects\, and streamline processes. Join us for a complimentary webinar on workforce disruption as we discuss creative strategies for addressing workforce challenges in the current market.\n\nAt the end of this session\, you will be able to:\n\n\n	Outline leading practices for attracting and retaining talent in a competitive market\n	Identify ways technology can better support your hybrid workforce\n	Recognize alternative staffing opportunities to support business operations and reduce stress on your team\n\n\nWho should attend\n\nThis session is designed for health care professionals and organizations.\n\nCan't make the webinar?\n\nFill out the webinar registration\, and you will receive an email with the webinar recording and slides following the event. Recorded webinars are not eligible for CPE. Also\, check out our event calendar to see what else is happening.
X-ALT-DESC;FMTTYPE=text/html:<p>Health care organizations are struggling to find the right talent\, manage special projects\, and streamline processes. Join us for a&nbsp\;<strong>complimentary</strong>&nbsp\;webinar on workforce disruption as we discuss creative strategies for addressing workforce challenges in the current market.</p>\n\n<h2>At the end of this session\, you will be able to:</h2>\n\n<ul style="margin-left:0px\; margin-right:0px">\n	<li>Outline leading practices for attracting and retaining talent in a competitive market</li>\n	<li>Identify ways technology can better support your hybrid workforce</li>\n	<li>Recognize alternative staffing opportunities to support business operations and reduce stress on your team</li>\n</ul>\n\n<h2>Who should attend</h2>\n\n<p>This session is designed for health care professionals and organizations.</p>\n\n<h2>Can&rsquo\;t make the webinar?</h2>\n\n<p>Fill out the webinar registration\, and you will receive an email with the webinar recording and slides following the event. Recorded webinars are not eligible for CPE. Also\, check out our&nbsp\;<a href="https://www.claconnect.com/en/events" style="box-sizing: inherit\; outline: none\; background: rgba(0\, 0\, 0\, 0)\; color: rgb(45\, 60\, 89)\; text-decoration-line: none\; line-height: inherit\; transition: color 0.3s ease 0s\, background-color 0.3s ease 0s\; overflow-wrap: break-word\; font-size: inherit\; font-weight: 700\; font-family: MuseoSans\, arial\, sans-serif\;">event calendar</a>&nbsp\;to see what else is happening.</p>\n
LOCATION:Virtual - Group Internet Based Webinar This is a CLA Hosted Webinar For more information and to register: Creative Strategies for Workforce Challenges in Health Care : 2022 : Events : CLA (CliftonLarsonAllen) (claconnect.com)
UID:e.3150.10561
SEQUENCE:3
DTSTAMP:20260426T025828Z
URL:https://business.whchamber.com/events/details/cla-creative-strategies-for-workforce-challenges-in-health-care-10561
END:VEVENT

END:VCALENDAR
