BEGIN:VCALENDAR
VERSION:2.0
PRODID:-//ChamberMaster//Event Calendar 2.0//EN
METHOD:PUBLISH
X-PUBLISHED-TTL:P3D
REFRESH-INTERVAL:P3D
CALSCALE:GREGORIAN
BEGIN:VEVENT
DTSTART:20220125T170000Z
DTEND:20220125T183000Z
X-MICROSOFT-CDO-ALLDAYEVENT:FALSE
SUMMARY:CLA Audit and Tax Updates for Nonprofits in 2022
DESCRIPTION:Join CLA (CliftonLarsonAllen LLP) for a complimentary webinar on current tax and accounting updates related to nonprofit organizations. This 90-minute session will provide an overview of what to prepare for in the new year.\n\nAt the end of this session\, you will be able to:\n\n\n	Outline new tax and accounting guidance affecting nonprofits\n	Discuss recent cases and IRS rulings of interest to exempt organizations\n	Identify changes to audit reporting standards and what nonprofits can expect related to gifts in-kind\, lease accounting\, reference rate reform\, and more\n\n\nWho should attend\n\nThis session is designed for finance teams\, management\, executives\, and board members of nonprofit organizations.\n\n\nCPE\n\nRecommended CPE: 1.5 credits available (1 credit Accounting and .5 credit Taxes)\n\nPrerequisites: None\n\nProgram level: Overview\n\nAdvance preparation: None\n\nDelivery method: Group Internet Based
X-ALT-DESC;FMTTYPE=text/html:<div>\n<p>Join CLA (CliftonLarsonAllen LLP) for a&nbsp\;<strong>complimentary</strong>&nbsp\;webinar on current tax and accounting updates related to nonprofit organizations. This 90-minute session will provide an overview of what to prepare for in the new year.</p>\n\n<h2>At the end of this session\, you will be able to:</h2>\n\n<ul style="margin-left:0px\; margin-right:0px">\n	<li>Outline new tax and accounting guidance affecting nonprofits</li>\n	<li>Discuss recent cases and IRS rulings of interest to exempt organizations</li>\n	<li>Identify changes to audit reporting standards and what nonprofits can expect related to gifts in-kind\, lease accounting\, reference rate reform\, and more</li>\n</ul>\n\n<h2>Who should attend</h2>\n\n<p>This session is designed for finance teams\, management\, executives\, and board members of nonprofit organizations.</p>\n</div>\n\n<h2>CPE</h2>\n\n<div>Recommended CPE: 1.5 credits available (1 credit Accounting and .5 credit Taxes)<br />\nPrerequisites: None<br />\nProgram level: Overview<br />\nAdvance preparation: None<br />\nDelivery method: Group Internet Based</div>\n
LOCATION:Virtual - Group Internet Based Webinar This is a CLA hosted event For additional information and to register: Audit and Tax Updates for Nonprofits in 2022 : 2022 : Events : CLA (CliftonLarsonAllen) (claconnect.com)
UID:e.3150.9311
SEQUENCE:3
DTSTAMP:20260425T191831Z
URL:https://business.whchamber.com/events/details/cla-audit-and-tax-updates-for-nonprofits-in-2022-9311
END:VEVENT

END:VCALENDAR
