BEGIN:VCALENDAR
VERSION:2.0
PRODID:-//ChamberMaster//Event Calendar 2.0//EN
METHOD:PUBLISH
X-PUBLISHED-TTL:P3D
REFRESH-INTERVAL:P3D
CALSCALE:GREGORIAN
BEGIN:VEVENT
DTSTART:20250328T130000Z
DTEND:20250328T160000Z
X-MICROSOFT-CDO-ALLDAYEVENT:FALSE
SUMMARY:Child Safety Seat Clinc - WHPD
DESCRIPTION:Car seat technicians that are certified through the state of Connecticut are doing car seat checks\, educational installations\, and there to answer any questions that parents\, friends\, or other caregivers may have.
X-ALT-DESC;FMTTYPE=text/html:<span style="color:black\;"><span style="font-family:aptos\,sans-serif\;"><span style="font-size:12.0pt\;">Car seat technicians that are certified through the state of Connecticut are doing car seat checks\, educational installations\, and there to answer any questions that parents\, friends\, or other caregivers may have.&nbsp\;</span></span></span>
LOCATION:West Hartford Town Hall Parking Lot 50 South Main St. West Hartford\, CT 06107
UID:e.3150.15950
SEQUENCE:3
DTSTAMP:20260424T011154Z
URL:https://business.whchamber.com/events/details/child-safety-seat-clinc-whpd-15950
END:VEVENT

END:VCALENDAR
