BEGIN:VCALENDAR
VERSION:2.0
PRODID:-//ChamberMaster//Event Calendar 2.0//EN
METHOD:PUBLISH
X-PUBLISHED-TTL:P3D
REFRESH-INTERVAL:P3D
CALSCALE:GREGORIAN
BEGIN:VEVENT
DTSTART:20230420T220000Z
DTEND:20230421T010000Z
X-MICROSOFT-CDO-ALLDAYEVENT:FALSE
SUMMARY:Chef's Tasting Dinner
DESCRIPTION:Join us for a beautiful evening to celebrate the Spring season with local farmers and onsite garden with an elegant five-course\, farm-to-table dinner complemented with private label Artisan wine. This exclusive tasting menu will be prepared by Chef Frederic Kieffer & Chef Michael Giai of Artisan Restaurant. Our Chef's Spring Tasting Dinner will take place under our Garden's Pergola with live music.\n\nA portion of the proceeds will be donated to Hands On Hartford. Hands On Hartford is a nonprofit that's committed to caring for the Hartford community in the areas of food security and nutrition\; housing assistance and homelessness prevention\; and health support. We welcome others to join us in our mission of strengthening community in Hartford by volunteering\, collaborating and supporting this work.\n\nKindly Note - The Tasting Menu will be released shortly.
X-ALT-DESC;FMTTYPE=text/html:<p>Join us for a beautiful evening to celebrate the Spring season with local farmers and onsite garden with an elegant five-course\, farm-to-table dinner complemented with private label Artisan wine. This exclusive tasting menu will be prepared by Chef Frederic Kieffer &amp\; Chef Michael Giai of Artisan Restaurant. Our Chef&#39\;s Spring Tasting Dinner will take place under our Garden&#39\;s Pergola with live music.</p>\n\n<p>A portion of the proceeds will be donated to <a href="https://handsonhartford.org/">Hands On Hartford</a>. Hands On Hartford is a nonprofit that&rsquo\;s committed to caring for the Hartford community in the areas of food security and nutrition\; housing assistance and homelessness prevention\; and health support. We welcome others to join us in our mission of strengthening community in Hartford by volunteering\, collaborating and supporting this work.</p>\n\n<p><strong>Kindly Note - The Tasting Menu will be released shortly.</strong></p>\n
LOCATION:Artisan West Hartford 1 Memorial Road\, West Hartford\, CT 06107
UID:e.3150.12501
SEQUENCE:3
DTSTAMP:20260425T163627Z
URL:https://business.whchamber.com/events/details/chef-s-tasting-dinner-12501
END:VEVENT

END:VCALENDAR
