BEGIN:VCALENDAR
VERSION:2.0
PRODID:-//ChamberMaster//Event Calendar 2.0//EN
METHOD:PUBLISH
X-PUBLISHED-TTL:P3D
REFRESH-INTERVAL:P3D
CALSCALE:GREGORIAN
BEGIN:VEVENT
DTSTART:20221103T220000Z
DTEND:20221104T020000Z
X-MICROSOFT-CDO-ALLDAYEVENT:FALSE
SUMMARY:Chef's Harvest Dinner
DESCRIPTION:Join us for a beautiful evening to celebrate the harvest of our local farmers and onsite garden with an elegant five-course\, farm-to-table dinner complemented with private label Artisan wine. This exclusive tasting menu will be prepared by Chef Frederic Kieffer & Chef Michael Giai of Artisan Restaurant who will share their inspiration behind each dish. Our Chef's Harvest Dinner will take place under our Garden's Pergola with live music.\n\nIn support of Domestic Violence Awareness month\, proceeds will be donated to Interval House.\n\nT?asting Menu:\n\nBLACK TRUFFLE AND SQUASH CAPPUCCINO\n\nMAINE LOBSTER AND BEETS MOSAIC beet top pesto\n\nROYAL RED SHRIMP Ricotta gnocchi\, mushrooms\, sauce marine\n\nBRAISED SHORT RIBS Parsnip mousseline\, squash fall sofrito\n\nCT APPLE CROSTATA Pecan ice cream\, butterscotch sauce\n\nTake the Elevator Up: with your purchase of the Chef's Harvest Dinner ticket\, you will receive a Delamar preferred rate to stay Thursday evening. Wake up and enjoy a complimentary full breakfast buffet.
X-ALT-DESC;FMTTYPE=text/html:<p>Join us for a beautiful evening to celebrate the harvest of our local farmers and onsite garden with an elegant five-course\, farm-to-table dinner complemented with private label Artisan wine. This exclusive tasting menu will be prepared by Chef Frederic Kieffer &amp\; Chef Michael Giai of Artisan Restaurant who will share their inspiration behind each dish. Our Chef&#39\;s Harvest Dinner will take place under our Garden&#39\;s Pergola with live music.</p>\n\n<p>In support of Domestic Violence Awareness month\, proceeds will be donated to&nbsp\;<a href="https://intervalhousect.org/" rel="nofollow noopener noreferrer" style="text-decoration-line: none\; color: var(--eds-control\,#3659e3)\; cursor: pointer\; background-color: transparent\; box-sizing: border-box\; padding-top: 0px\;" target="_blank">Interval House</a>.</p>\n\n<p><strong>T?asting Menu:</strong></p>\n\n<p>BLACK TRUFFLE AND SQUASH CAPPUCCINO</p>\n\n<p>MAINE LOBSTER AND BEETS MOSAIC beet top pesto</p>\n\n<p>ROYAL RED SHRIMP Ricotta gnocchi\, mushrooms\, sauce marine</p>\n\n<p>BRAISED SHORT RIBS Parsnip mousseline\, squash fall sofrito</p>\n\n<p>CT APPLE CROSTATA Pecan ice cream\, butterscotch sauce</p>\n\n<p><strong>Take the Elevator Up:&nbsp\;</strong>with your purchase of the Chef&#39\;s Harvest Dinner ticket\, you will receive a Delamar preferred rate to stay Thursday evening. Wake up and enjoy a complimentary full breakfast buffet.</p>\n
LOCATION:Artisan West Hartford 1 Memorial Road West Hartford\, CT 06107
UID:e.3150.12398
SEQUENCE:3
DTSTAMP:20260425T224229Z
URL:https://business.whchamber.com/events/details/chef-s-harvest-dinner-12398
END:VEVENT

END:VCALENDAR
