BEGIN:VCALENDAR
VERSION:2.0
PRODID:-//ChamberMaster//Event Calendar 2.0//EN
METHOD:PUBLISH
X-PUBLISHED-TTL:P3D
REFRESH-INTERVAL:P3D
CALSCALE:GREGORIAN
BEGIN:VEVENT
DTSTART:20250329T153000Z
DTEND:20250329T164500Z
X-MICROSOFT-CDO-ALLDAYEVENT:FALSE
SUMMARY:Chakra Connect - Dance/Meditation Class - WEBINAR AND FREE TRIAL CLASS
DESCRIPTION:What is Chakra Connect?\n\nChakra Connect is...\n\n\n	A Virtual experience where we explore the chakra system through movement\, meditation\, music\, and discussion. Each session will focus on a different chakra\, using dance and imagery to activate and balance energy.\n\n \n\n\n	A mindful movement\, meditation\, and sound healing practice.  I will share Reiki energy throughout the journey to support your energetic alignment and well-being.\n\n  \n\n\n	A unique opportunity to release\, restore\, and reconnect with yourself and your inner wisdom.  You will be offered verbal prompts and music to move/dance to\, using the Chakras as a guide.\n\n\nI invite you to learn about Chakra Connect!\n\n\n\nChakra Connect Webinar and Free Trial Class\n\nMarch 29\, 2025 11:30 am-12:45 pm ET\n\n\n\n\n\nThe Webinar will include:\n\n\n	A special 40-minute Chakra Connect Class\n	Time for Discussion\n	Questions and Answers\n	Opportunity to sign up for the upcoming 8-week session  (10% discount)\n	Session begins April 16\n	Classes available in a package or drop in\n\n After attending the Webinar\, you will be emailed a virtual copy of "The Chakra Insights Guide"\, a simple presentation of the Chakras.\n\n\n\nRegister here: \n\nhttps://www.odonatareiki.com/chakra-connect-webinar-registration
X-ALT-DESC;FMTTYPE=text/html:<h3><span style="color:#000000"><span style="font-family:comic sans ms\,marker felt-thin\,arial\,sans-serif">What is Chakra Connect?<br />\nChakra Connect is...</span></span></h3>\n\n<ul>\n	<li><span style="color:#000000"><span style="font-family:comic sans ms\,marker felt-thin\,arial\,sans-serif">A Virtual&nbsp\;experience where we explore the chakra system through movement\, meditation\, music\, and discussion. Each session will focus on a different chakra\, using dance and imagery to activate and balance energy.</span></span></li>\n</ul>\n<span style="color:#000000"><span style="font-family:comic sans ms\,marker felt-thin\,arial\,sans-serif">&nbsp\;</span></span>\n\n<ul>\n	<li><span style="color:#000000"><span style="font-family:comic sans ms\,marker felt-thin\,arial\,sans-serif">A mindful movement\, meditation\, and sound healing practice.&nbsp\; I will share Reiki energy throughout the journey to support your energetic alignment and well-being.</span></span></li>\n</ul>\n<span style="color:#000000"> <span style="font-family:comic sans ms\,marker felt-thin\,arial\,sans-serif">&nbsp\;</span></span>\n\n<ul>\n	<li><span style="color:#000000"><span style="font-family:comic sans ms\,marker felt-thin\,arial\,sans-serif">A unique opportunity to release\, restore\, and reconnect&mdash\;with yourself and your inner wisdom.&nbsp\;&nbsp\;You will be offered verbal prompts and music&nbsp\;to move/dance to\, using the Chakras as a guide.</span></span></li>\n</ul>\n\n<div style="text-align:center"><span style="color:#000000"><span style="font-family:comic sans ms\,marker felt-thin\,arial\,sans-serif">I invite you to learn about Chakra Connect!<br />\n<br />\n<strong>Chakra Connect Webinar and Free Trial Class<br />\nMarch 29\, 2025 11:30 am-12:45 pm ET</strong></span></span><br />\n<br />\n<br />\n<span style="font-family:comic sans ms\,marker felt-thin\,arial\,sans-serif"><span style="color:#000000">The Webinar will include:</span></span>\n\n<ul>\n	<li><span style="color:#000000"><span style="font-family:comic sans ms\,marker felt-thin\,arial\,sans-serif">A special 40-minute Chakra Connect Class</span></span></li>\n	<li><span style="color:#000000"><span style="font-family:comic sans ms\,marker felt-thin\,arial\,sans-serif">Time for Discussion</span></span></li>\n	<li><span style="color:#000000"><span style="font-family:comic sans ms\,marker felt-thin\,arial\,sans-serif">Questions and Answers</span></span></li>\n	<li><span style="color:#000000"><span style="font-family:comic sans ms\,marker felt-thin\,arial\,sans-serif">Opportunity to sign up for the upcoming 8-week session&nbsp\; (10% discount)</span></span></li>\n	<li>Session begins April 16</li>\n	<li>Classes available in a package or drop in</li>\n</ul>\n<span style="color:#000000"><span style="font-family:comic sans ms\,marker felt-thin\,arial\,sans-serif"> After attending the Webinar\, you will be emailed a virtual copy of &quot\;The Chakra Insights Guide&quot\;\, a simple presentation of the Chakras.<br />\n<br />\nRegister here:&nbsp\;</span></span><br />\nhttps://www.odonatareiki.com/chakra-connect-webinar-registration<br />\n<br />\n&nbsp\;</div>\n
LOCATION:Virtual via Zoom
UID:e.3150.15906
SEQUENCE:3
DTSTAMP:20260424T024615Z
URL:https://business.whchamber.com/events/details/chakra-connect-dance-meditation-class-webinar-and-free-trial-class-15906
END:VEVENT

END:VCALENDAR
