BEGIN:VCALENDAR
VERSION:2.0
PRODID:-//ChamberMaster//Event Calendar 2.0//EN
METHOD:PUBLISH
X-PUBLISHED-TTL:P3D
REFRESH-INTERVAL:P3D
CALSCALE:GREGORIAN
BEGIN:VEVENT
DTSTART:20240514T123000Z
DTEND:20240514T143000Z
X-MICROSOFT-CDO-ALLDAYEVENT:FALSE
SUMMARY:CHAC "Wake Up To Wellbeing" Forum
DESCRIPTION:Mental Health affects each and every one of us on a daily basis.\n\n \n\n\n\nIt's time to come together and share our resources\, our knowledge and our passion to no longer allow mental health to be a challenge in our lives. There is a better way.\n\n \n\n\n\nWe are so incredibly proud to be in partnership with Mental Health Connecticut to host this incredible IN PERSON event to support this needed awareness.\n\n \n\n\n\n"Wake Up to Wellbeing" consists of area leaders in both holistic and traditional modalities sharing their expertise in how to incorporate self care and wellness into our diverse personal and professional lives.\n\n \n\n\n\nThis event is OPEN to all who would like to learn more about bringing wellness into their daily lives. We will have agencies and practitioners of various modalities there to network with before and after the panel discussion.\n\n \n\n\n\nTuesday May 14th 8:30-10:30am\n\nTunxis Country Club\n\n87 Town Farm Rd\, Farmington\, CT 06032\n\n\n\nlight refreshments will be served\n\n \n\n\n\nhttps://square.link/u/9RxtQl82
X-ALT-DESC;FMTTYPE=text/html:<div>\n<div>Mental Health affects each and every one of us on a daily basis.<br />\n&nbsp\;</div>\n</div>\n\n<div>\n<div>It&#39\;s time to come together and share our resources\, our knowledge and our passion to no longer allow mental health to be a challenge in our lives. There is a better way.<br />\n&nbsp\;</div>\n</div>\n\n<div>\n<div>We are so incredibly proud to be in partnership with <span style="font-family:inherit"><a class="x1i10hfl xjbqb8w x1ejq31n xd10rxx x1sy0etr x17r0tee x972fbf xcfux6l x1qhh985 xm0m39n x9f619 x1ypdohk xt0psk2 xe8uvvx xdj266r x11i5rnm xat24cr x1mh8g0r xexx8yu x4uap5 x18d9i69 xkhd6sd x16tdsg8 x1hl2dhg xggy1nq x1a2a7pz xt0b8zv x1fey0fg xo1l8bm" href="https://www.facebook.com/MentalHealthCT?__cft__[0]=AZUBfMlptNKbL-kpQ2iBiBT0JahHY3bIcqQZJlXlWDmqiLiwfLsnPbBmNJ2ppwdjuOHoXpOevT1cKbcuPId_UCuIFhArAb9cXGcR6k9FFLqm9itsO484BW8O8jICx9wBusJyBWj7z8rlhE6JMy5wgV1b3V4gm9jPmhLwa2Dnk1wr0iWN7pkHVkjF7iZkitPTVik&amp\;__tn__=-]K-R" style="color: var(--blue-link)\; cursor: pointer\; text-decoration-line: none\; outline: none\; list-style: none\; margin: 0px\; text-align: inherit\; border-style: none\; -webkit-tap-highlight-color: transparent\; padding: 0px\; border-width: 0px\; box-sizing: border-box\; touch-action: manipulation\; background-color: transparent\; display: inline\; font-family: inherit\;" tabindex="0"><span style="font-family:inherit">Mental Health Connecticut</span></a></span> to host this incredible IN PERSON event to support this needed awareness.<br />\n&nbsp\;</div>\n</div>\n\n<div>\n<div>&quot\;Wake Up to Wellbeing&quot\; consists of area leaders in both holistic and traditional modalities sharing their expertise in how to incorporate self care and wellness into our diverse personal and professional lives.<br />\n&nbsp\;</div>\n</div>\n\n<div>\n<div>This event is OPEN to all who would like to learn more about bringing wellness into their daily lives. We will have agencies and practitioners of various modalities there to network with before and after the panel discussion.<br />\n&nbsp\;</div>\n</div>\n\n<div>\n<div>Tuesday May 14th 8:30-10:30am</div>\n\n<div>Tunxis Country Club</div>\n\n<div>87 Town Farm Rd\, Farmington\, CT 06032</div>\n</div>\n\n<div>\n<div>light refreshments will be served<br />\n&nbsp\;</div>\n</div>\n\n<div>\n<div><span style="font-family:inherit"><a class="x1i10hfl xjbqb8w x1ejq31n xd10rxx x1sy0etr x17r0tee x972fbf xcfux6l x1qhh985 xm0m39n x9f619 x1ypdohk xt0psk2 xe8uvvx xdj266r x11i5rnm xat24cr x1mh8g0r xexx8yu x4uap5 x18d9i69 xkhd6sd x16tdsg8 x1hl2dhg xggy1nq x1a2a7pz xt0b8zv x1fey0fg" href="https://square.link/u/9RxtQl82?fbclid=IwZXh0bgNhZW0CMTAAAR2sXncEJRiPXg2ICRy_cLNfkt-oSxtNFPMK__ATySrEFBdtDfyipum7Ydg_aem_AaA7s18xZx-HwySonrXs6edNEsoPQAmaWJJknOuN3oOptK81DgL26rGJp8HmvM3riNek-hO572n2UygZgAtW91GG" rel="nofollow noreferrer" style="color: var(--blue-link)\; cursor: pointer\; text-decoration-line: none\; outline: none\; list-style: none\; margin: 0px\; text-align: inherit\; border-style: none\; -webkit-tap-highlight-color: transparent\; padding: 0px\; border-width: 0px\; box-sizing: border-box\; touch-action: manipulation\; background-color: transparent\; display: inline\; font-family: inherit\;" tabindex="0" target="_blank">https://square.link/u/9RxtQl82</a></span></div>\n</div>\n
LOCATION:Tunxis Country Club 87 Town Farm Rd\, Farmington\, CT 06032
UID:e.3150.12981
SEQUENCE:3
DTSTAMP:20260424T210041Z
URL:https://business.whchamber.com/events/details/chac-wake-up-to-wellbeing-forum-12981
END:VEVENT

END:VCALENDAR
