BEGIN:VCALENDAR
VERSION:2.0
PRODID:-//ChamberMaster//Event Calendar 2.0//EN
METHOD:PUBLISH
X-PUBLISHED-TTL:P3D
REFRESH-INTERVAL:P3D
CALSCALE:GREGORIAN
BEGIN:VEVENT
DTSTART:20220611T130000Z
DTEND:20220612T220000Z
X-MICROSOFT-CDO-ALLDAYEVENT:FALSE
SUMMARY:Celebrate! West Hartford
DESCRIPTION:IT'S BACK!! Celebrate! West Hartford\, presented by PeoplesBank\, returns to the grounds of West Hartford Town Hall on June 11 & 12\, 2022. Browse the work of over 150 artists in our award-winning arts & crafts festival\, meet local non-profits and featured sponsor vendors\, and enjoy fun rides and games at the carnival! Live musical performances all weekend featuring headliner Latanya Farrell. Enjoy Sunday morning fitness for the whole family with a FUNd run for both kids and adults. Sample international cuisines at over 20 food vendors at the food court. Admission to enjoy the festivities is free - mark your calendars now! For information on parking please visit: https://www.westhartfordct.gov/town-departments/leisure-services/celebrate-west-hartford/parking-for-event Looking to Volunteer? Contact\, CelebrateVolunteers@WestHartfordCT.gov\, to learn more about volunteer opportunities. Register before the event for the Kids K Run @ 8am or the 5K Road Race @11am on Sunday\, June 12th. Click the link to register for the FUNd Runs: https://runsignup.com/Race/CT/WestHartford/CelebrateWestHartfordRoadRace
X-ALT-DESC;FMTTYPE=text/html:IT&#39\;S BACK!! Celebrate! West Hartford\, presented by PeoplesBank\, returns to the grounds of West Hartford Town Hall on June 11 &amp\; 12\, 2022. Browse the work of over 150 artists in our award-winning arts &amp\; crafts festival\, meet local non-profits and featured sponsor vendors\, and enjoy fun rides and games at the carnival! Live musical performances all weekend featuring headliner Latanya Farrell. Enjoy Sunday morning fitness for the whole family with a FUNd run for both kids and adults. Sample international cuisines at over 20 food vendors at the food court. Admission to enjoy the festivities is free - mark your calendars now! For information on parking please visit: https://www.westhartfordct.gov/town-departments/leisure-services/celebrate-west-hartford/parking-for-event Looking to Volunteer? Contact\, CelebrateVolunteers@WestHartfordCT.gov\, to learn more about volunteer opportunities. Register before the event for the Kids K Run @ 8am or the 5K Road Race @11am on Sunday\, June 12th. Click the link to register for the FUNd Runs: https://runsignup.com/Race/CT/WestHartford/CelebrateWestHartfordRoadRace
LOCATION:Town Hall of West Hartford 50 S Main St #128\, West Hartford\, CT 06107
UID:e.3150.9462
SEQUENCE:3
DTSTAMP:20260426T023205Z
URL:https://business.whchamber.com/events/details/celebrate-west-hartford-9462
END:VEVENT

END:VCALENDAR
