BEGIN:VCALENDAR
VERSION:2.0
PRODID:-//ChamberMaster//Event Calendar 2.0//EN
METHOD:PUBLISH
X-PUBLISHED-TTL:P3D
REFRESH-INTERVAL:P3D
CALSCALE:GREGORIAN
BEGIN:VEVENT
DTSTART:20250228T230000Z
DTEND:20250301T013000Z
X-MICROSOFT-CDO-ALLDAYEVENT:FALSE
SUMMARY:Caudalie Launch Party at Delamar West Hartford Spa
DESCRIPTION:Join us at Delamar West Hartford for a memorable evening celebrating Delamar Spa's exciting new partnership with Caudalie. Enjoy the rare chance to meet the Caudalie USA team\, sip exquisite wine from their exclusive vineyard in Bordeaux\, savor delicious bites\, and take home a gift bag as a special keepsake. Each ticket purchased includes two drink tickets\, making this an evening you won't want to miss!\n\nDelamar Spas' exclusive partnership with Caudalie\, makes us one of the few spas in the USA\, outside of Caudalie's flagship NYC location\, to offer the brand's renowned Vinoth rapie treatments. These treatments uniquely blend natural active ingredients from the grapevine with luxurious rituals\, delivering visible results in radiance\, anti-aging\, firmness\, detox\, and slimming. Each treatment is personally overseen by Mathilde Thomas\, co-founder of Caudalie\, ensuring the highest quality and effectiveness.\n\n\n\nWe are delighted to collaborate with Caudalie to bring these transformative experiences to our guests.
X-ALT-DESC;FMTTYPE=text/html:<p>Join us at&nbsp\;<strong>Delamar West Hartford</strong>&nbsp\;for a memorable evening celebrating Delamar Spa&rsquo\;s exciting new partnership with&nbsp\;<a href="https://us.caudalie.com/" rel="nofollow noopener noreferrer" style="background-color: transparent\; color: var(--eds-control\,#3659e3)\; box-sizing: border-box\;" target="_blank" title="https://us.caudalie.com/"><strong>Caudalie</strong></a>. Enjoy the rare chance to meet the Caudalie USA team\, sip exquisite wine from their exclusive vineyard in Bordeaux\, savor delicious bites\, and take home a gift bag as a special keepsake. Each ticket purchased includes two drink tickets\, making this an evening you won&rsquo\;t want to miss!</p>\n\n<p>Delamar Spas&#39\; exclusive partnership with Caudalie\, makes us one of the few spas in the USA\, outside of Caudalie&#39\;s flagship NYC location\, to offer the brand&#39\;s renowned Vinoth&eacute\;rapie treatments. These treatments uniquely blend natural active ingredients from the grapevine with luxurious rituals\, delivering visible results in radiance\, anti-aging\, firmness\, detox\, and slimming. Each treatment is personally overseen by Mathilde Thomas\, co-founder of Caudalie\, ensuring the highest quality and effectiveness.<br />\n<br />\nWe are delighted to collaborate with Caudalie to bring these transformative experiences to our guests.</p>\n
LOCATION:Delamar West Hartford 1 Memorial Road West Hartford\, CT 06107
UID:e.3150.15822
SEQUENCE:3
DTSTAMP:20260424T024803Z
URL:https://business.whchamber.com/events/details/caudalie-launch-party-at-delamar-west-hartford-spa-15822
END:VEVENT

END:VCALENDAR
