BEGIN:VCALENDAR
VERSION:2.0
PRODID:-//ChamberMaster//Event Calendar 2.0//EN
METHOD:PUBLISH
X-PUBLISHED-TTL:P3D
REFRESH-INTERVAL:P3D
CALSCALE:GREGORIAN
BEGIN:VEVENT
DTSTART:20211204T180000Z
DTEND:20211204T210000Z
X-MICROSOFT-CDO-ALLDAYEVENT:FALSE
SUMMARY:Can/Bottle\, Food and Furniture Drive
DESCRIPTION:On Saturday\, December 4th\, 1-4 PM\, Friends of Feeney is excited to partner with Connecticut Foodshare and Journey Homes for a wonderful collaborative event at Lyon's Auto Service on 1056 New Britain Ave in West Hartford. There will be a mural celebration with live music!\n\n\n \n\nFriends of Feeney will be collecting returnable bottles and cans.\n\nConnecticut Foodshare will be collecting nonperishable food items.\n\nJourney Homes will be collecting gently used furniture.
X-ALT-DESC;FMTTYPE=text/html:<div><span style="background-color:rgb(255\, 255\, 255)\; color:rgb(34\, 34\, 34)\; font-family:arial\,helvetica\,sans-serif\; font-size:small">On Saturday\, December 4th\, 1-4 PM\, Friends of Feeney is excited to partner with Connecticut Foodshare and Journey Homes for a wonderful collaborative event at Lyon&#39\;s Auto Service on 1056 New Britain Ave in West Hartford. There will be a mural celebration with live music!</span></div>\n\n<div>\n<div>&nbsp\;</div>\n\n<div>Friends of Feeney will be collecting returnable bottles and cans.</div>\n\n<div>Connecticut&nbsp\;Foodshare will be collecting nonperishable&nbsp\;food items.</div>\n\n<div>Journey&nbsp\;Homes will be collecting gently used furniture.&nbsp\;</div>\n</div>\n
LOCATION:Lyon's Auto Service on 1056 New Britain Ave in West Hartford
UID:e.3150.9283
SEQUENCE:3
DTSTAMP:20260425T191611Z
URL:https://business.whchamber.com/events/details/can-bottle-food-and-furniture-drive-9283
END:VEVENT

END:VCALENDAR
