BEGIN:VCALENDAR
VERSION:2.0
PRODID:-//ChamberMaster//Event Calendar 2.0//EN
METHOD:PUBLISH
X-PUBLISHED-TTL:P3D
REFRESH-INTERVAL:P3D
CALSCALE:GREGORIAN
BEGIN:VEVENT
DTSTART:20230621T210000Z
DTEND:20230621T230000Z
X-MICROSOFT-CDO-ALLDAYEVENT:FALSE
SUMMARY:Business & Bourbon Networking Event
DESCRIPTION:Sip\, Socialize\, Strategize - The Ultimate Networking Experience\n\nJoin us on June 21st at Butchers and Bakers\, Farmington\, CT\, from 5:00-7:00 PM for an unforgettable Business & Bourbon event!\n\nEach ticket includes:\n\n\n	Passed Canapes: Indulge in a mouthwatering selection including yellowfin tuna tartare\, salmon gougers\, arancini\, chicken teriyaki\, asparagus & prosciutto crisps\, and beef satay.\n	First Drink Pour: Choose from a variety of high quality bourbons such as Woodford\, Basil Hayden\, Russell Reserve\, Angel's Envy\, Hudson Bourbon\, or any other drink or cocktail of your choice. (premium bourbons including Blantons\, Willet Pot Still\, WL Special Reserve\, and more will be available for purchase)\n	Strategy Session sponsored by Certified Financial Services: Gain valuable insights and strategies to elevate your business game.\n	Elevated Networking Experience sponsored by Capture the Concept: Forge meaningful connections with fellow business professionals in a refined setting.\n	Bourbon-Inspired Gift: Take home a unique bourbon-inspired gift as a memento of this exclusive event.\n	Special Bourbon Raffles sponsored by Aventurine Business Consulting: Get a chance to win exceptional bourbons in our exciting raffles.\n\n\nLimited tickets available! Don't miss out on this extraordinary blend of networking and bourbon. Reserve your spot now!
X-ALT-DESC;FMTTYPE=text/html:<h3><strong>Sip\, Socialize\, Strategize - The Ultimate Networking Experience</strong></h3>\n\n<p>Join us on June 21st at <a href="https://butchersandbakers.com/">Butchers and Bakers</a>\, Farmington\, CT\, from 5:00-7:00 PM for an unforgettable Business &amp\; Bourbon event!</p>\n\n<p>Each ticket includes:</p>\n\n<ul>\n	<li>Passed Canapes: Indulge in a mouthwatering selection including yellowfin tuna tartare\, salmon gougers\, arancini\, chicken teriyaki\, asparagus &amp\; prosciutto crisps\, and beef satay.</li>\n	<li>First Drink Pour: Choose from a variety of high quality bourbons such as Woodford\, Basil Hayden\, Russell Reserve\, Angel&#39\;s Envy\, Hudson Bourbon\, or any other drink or cocktail of your choice. (premium bourbons including Blantons\, Willet Pot Still\, WL Special Reserve\, and more will be available for purchase)</li>\n	<li>Strategy Session sponsored by <a href="https://www.cfsllc.com/">Certified Financial Services</a>: Gain valuable insights and strategies to elevate your business game.</li>\n	<li>Elevated Networking Experience sponsored by <a href="https://capturetheconcept.com/">Capture the Concept</a>: Forge meaningful connections with fellow business professionals in a refined setting.</li>\n	<li>Bourbon-Inspired Gift: Take home a unique bourbon-inspired gift as a memento of this exclusive event.</li>\n	<li>Special Bourbon Raffles sponsored by <a href="https://aventurineusa.com/">Aventurine Business Consulting</a>: Get a chance to win exceptional bourbons in our exciting raffles.</li>\n</ul>\n\n<h3><strong>Limited tickets available! Don&#39\;t miss out on this extraordinary blend of networking and bourbon. <a href="https://www.eventbrite.com/e/sip-socialize-strategize-business-bourbon-networking-tickets-630374526177">Reserve your spot now</a>!</strong></h3>\n
LOCATION:Butchers and Bakers 270 Farmington Avenue Farmington\, CT 06032
UID:e.3150.12587
SEQUENCE:3
DTSTAMP:20260425T132818Z
URL:https://business.whchamber.com/events/details/business-bourbon-networking-event-12587
END:VEVENT

END:VCALENDAR
