BEGIN:VCALENDAR
VERSION:2.0
PRODID:-//ChamberMaster//Event Calendar 2.0//EN
METHOD:PUBLISH
X-PUBLISHED-TTL:P3D
REFRESH-INTERVAL:P3D
CALSCALE:GREGORIAN
BEGIN:VEVENT
DTSTART:20240324T150000Z
DTEND:20240324T190000Z
X-MICROSOFT-CDO-ALLDAYEVENT:FALSE
SUMMARY:BTC's Snow White Picnic
DESCRIPTION:We invite children ages 4 and up to join Snow White on March 24\, 11:00am - 3:00pm for a whimsical picnic presented by Ballet Theatre Company at Warehouse 635 located at 635 New Park Ave\, Ste 2f. Play games and win prizes with the infamous Seven Dwarves\, create a potion with the Evil Queen\, meet and greet with Snow White and enjoy a picnic lunch provided by Distinctive Ideas. All proceeds from the picnic event will support BTC's Sensory-Friendly performance of Snow White at The Bushnell on April 21\, 2024. Online sales close March 20 to best prepare for your picnic lunch. Please note that no tickets will be sold at the door. All tickets include your choice of lunch provided by Distinctive Ideas. Cost: Child Ticket $35 | Adult Ticket $40
X-ALT-DESC;FMTTYPE=text/html:We invite children ages 4 and up to join Snow White on March 24\, 11:00am - 3:00pm for a whimsical picnic presented by Ballet Theatre Company at Warehouse 635 located at 635 New Park Ave\, Ste 2f. Play games and win prizes with the infamous Seven Dwarves\, create a potion with the Evil Queen\, meet and greet with Snow White and enjoy a picnic lunch provided by Distinctive Ideas. All proceeds from the picnic event will support BTC&rsquo\;s Sensory-Friendly performance of Snow White at The Bushnell on April 21\, 2024. Online sales close March 20 to best prepare for your picnic lunch. Please note that no tickets will be sold at the door. All tickets include your choice of lunch provided by Distinctive Ideas. Cost: Child Ticket $35 | Adult Ticket $40
LOCATION:Warehouse 635 635 New Park Ave West Hartford CT 06110
UID:e.3150.12955
SEQUENCE:3
DTSTAMP:20260424T222655Z
URL:https://business.whchamber.com/events/details/btc-s-snow-white-picnic-12955
END:VEVENT

END:VCALENDAR
