BEGIN:VCALENDAR
VERSION:2.0
PRODID:-//ChamberMaster//Event Calendar 2.0//EN
METHOD:PUBLISH
X-PUBLISHED-TTL:P3D
REFRESH-INTERVAL:P3D
CALSCALE:GREGORIAN
BEGIN:VEVENT
DTSTART:20250201T150000Z
DTEND:20250201T180000Z
X-MICROSOFT-CDO-ALLDAYEVENT:FALSE
SUMMARY:BrightPath on Park Road Open House
DESCRIPTION:BrightPath on Park Road is hosting an Open House February 1st from 10am-1pm! Join us for some light refreshments\, Engage in fun crafts and activities\, as well as meet some of our educators! \n\n\n\nWe are offering a special enrollment credit during our open house! This special will include: \n\n	 Waived registration fee of 100$\n	$750 credit for Full Time and $500 credit for Part Time families.\n	Credits are applied after 3 months of consecutive attendance\n	Families must start by May 31\, 2025\n	One credit per family\n	Eligible enrollment dates - We are honoring credits for enrollments taken the week leading up to the open house as well!
X-ALT-DESC;FMTTYPE=text/html:BrightPath on Park Road is hosting an Open House February 1st from 10am-1pm! Join us for some light refreshments\, Engage in fun crafts and activities\, as well as meet some of our educators!&nbsp\;<br />\n<br />\nWe are offering a special enrollment credit during our open house! This special will include:&nbsp\;\n<ul>\n	<li>&nbsp\;Waived registration fee of 100$</li>\n	<li>$750 credit for Full Time and $500 credit for Part Time families.</li>\n	<li>Credits are applied after 3 months of consecutive attendance</li>\n	<li>Families must start by May 31\, 2025</li>\n	<li>One credit per family</li>\n	<li>Eligible enrollment dates - We are honoring credits for enrollments taken the week leading up to the open house as well!&nbsp\;</li>\n</ul>\n
LOCATION:389 Park Road West Hartford CT\, 06119
UID:e.3150.15826
SEQUENCE:3
DTSTAMP:20260424T025040Z
URL:https://business.whchamber.com/events/details/brightpath-on-park-road-open-house-15826
END:VEVENT

END:VCALENDAR
