BEGIN:VCALENDAR
VERSION:2.0
PRODID:-//ChamberMaster//Event Calendar 2.0//EN
METHOD:PUBLISH
X-PUBLISHED-TTL:P3D
REFRESH-INTERVAL:P3D
CALSCALE:GREGORIAN
BEGIN:VEVENT
DTSTART:20250405T140000Z
DTEND:20250405T163000Z
X-MICROSOFT-CDO-ALLDAYEVENT:FALSE
SUMMARY:BrightPath Egg Hunt!
DESCRIPTION:Embark on an egg-citing adventure at our Family Egg Hunt with both BrightPath West Hartford Park Road and Fennway Families! Join us for a delightful session where families can hop around and search for colorful eggs together. Our egg hunt offers a laid-back and interactive experience\, perfect for creating lasting memories. The Egg Hunt will be taking place rain or shine\, so be sure to hop in for the fun!
X-ALT-DESC;FMTTYPE=text/html:<span style="color:#2F597B"><span style="font-family:hero junior bold"><span style="font-size:12.0pt">Embark on an egg-citing adventure at our Family Egg Hunt with both BrightPath </span></span></span><span style="color:#2F597B"><span style="font-family:hero junior bold"><span style="font-size:12.0pt">West Hartford Park Road and Fe</span></span></span><span style="color:#2F597B"><span style="font-family:hero junior bold"><span style="font-size:12.0pt">nnway Families! Join us for a delightful session where families can hop around and search for colorful eggs together. Our egg hun</span></span></span><span style="color:#2F597B"><span style="font-family:hero junior bold"><span style="font-size:12.0pt">t offers a laid-back and interactive experience\, perfect for creating lasting memories. The Egg Hunt will be taking place rain or shine\, so be sure to hop in for the fun! </span></span></span>
LOCATION:389 Park Road West Hartford CT 06119
UID:e.3150.16555
SEQUENCE:3
DTSTAMP:20260424T065823Z
URL:https://business.whchamber.com/events/details/brightpath-egg-hunt-16555
END:VEVENT

END:VCALENDAR
