BEGIN:VCALENDAR
VERSION:2.0
PRODID:-//ChamberMaster//Event Calendar 2.0//EN
METHOD:PUBLISH
X-PUBLISHED-TTL:P3D
REFRESH-INTERVAL:P3D
CALSCALE:GREGORIAN
BEGIN:VEVENT
DTSTART:20240713T150000Z
DTEND:20240713T200000Z
X-MICROSOFT-CDO-ALLDAYEVENT:FALSE
SUMMARY:BookWyrm Fest
DESCRIPTION:BookWyrm Fest is West Hartford's annual celebration of all things adventure\, fantasy\, board games\, live action roleplaying (LARP)\, and tabletop roleplaying games (TTRPGs). Here are just a few of the things you can do at BookWyrm Fest:\n\n\n	Learn how to wield a sword from a real knight\n	Jump into a tabletop adventure\n	Have your face painted\n	Peruse the wares of our many vendors\n	Dance to the music of The Penniless Jacks\n\n\nAll ages are welcome to join in the fun. Dressing up is encouraged!\n\n\n\nInterested in being a vendor? Fill out the Vendor Interest Form. A staff member will reach out to you shortly.
X-ALT-DESC;FMTTYPE=text/html:<p><span style="font-size:12px"><span style="font-family:verdana">BookWyrm Fest is West Hartford&rsquo\;s annual celebration of all things adventure\, fantasy\, board games\, live action roleplaying (LARP)\, and tabletop roleplaying games (TTRPGs). Here are just a few of the things you can do at BookWyrm Fest:</span></span></p>\n\n<ul>\n	<li><span style="font-size:12px"><span style="font-family:verdana">Learn how to wield a sword from a real knight</span></span></li>\n	<li><span style="font-size:12px"><span style="font-family:verdana">Jump into a&nbsp\;tabletop adventure</span></span></li>\n	<li><span style="font-size:12px"><span style="font-family:verdana">Have your face painted</span></span></li>\n	<li><span style="font-size:12px"><span style="font-family:verdana">Peruse the wares of our many vendors</span></span></li>\n	<li><span style="font-size:12px"><span style="font-family:verdana">Dance to the music of&nbsp\;<a href="https://www.facebook.com/ThePennilessJacks" style="box-sizing: inherit\; background-color: transparent\; color: rgb(71\, 120\, 169)\; text-decoration-line: none\; touch-action: manipulation\; transition: all 0.25s ease 0s\;">The Penniless Jacks</a></span></span></li>\n</ul>\n\n<p><span style="font-size:12px"><span style="font-family:verdana">All ages are welcome to join in the fun. Dressing up is encouraged!<br />\n<br />\n<span style="color:rgb(41\, 43\, 44)"><strong>Interested in being a vendor?</strong>&nbsp\;</span><span style="color:rgb(41\, 43\, 44)">Fill out the</span></span></span><span style="font-family:verdana"><span style="color:rgb(41\, 43\, 44)">&nbsp\;</span><a href="https://docs.google.com/forms/d/e/1FAIpQLSdoUHM0ROUwe89uVIbA7_-TnVaJRjQUyr5HHjn9MaKOAkDxqQ/viewform" rel="noreferrer noopener" style="box-sizing: inherit\; color: rgb(71\, 120\, 169)\; text-decoration-line: none\; touch-action: manipulation\; transition: all 0.25s ease 0s\; font-family: &quot\;Source Sans Pro&quot\;\, Arial\, sans-serif\; font-size: 16px\;" target="_blank">Vendor Interest Form</a></span><span style="font-size:12px"><span style="font-family:verdana"><span style="color:rgb(41\, 43\, 44)">. A staff member will reach out to you shortly.</span></span></span></p>\n
LOCATION:Noah Webster Library 20 South Main Street West Hartford\, CT 06107
UID:e.3150.12976
SEQUENCE:3
DTSTAMP:20260424T163941Z
URL:https://business.whchamber.com/events/details/bookwyrm-fest-12976
END:VEVENT

END:VCALENDAR
