BEGIN:VCALENDAR
VERSION:2.0
PRODID:-//ChamberMaster//Event Calendar 2.0//EN
METHOD:PUBLISH
X-PUBLISHED-TTL:P3D
REFRESH-INTERVAL:P3D
CALSCALE:GREGORIAN
BEGIN:VEVENT
DTSTART:20240301T000000Z
DTEND:20240301T010000Z
X-MICROSOFT-CDO-ALLDAYEVENT:FALSE
SUMMARY:Black History Month Event-- My Father's Story in the Negro American League: Gilbert "Gil" Hernandez Black
DESCRIPTION:This event is a presentation by Andreyah Maria Hernandez Black\, Gil's daughter. Ms. Black will share the story of her father's life as a teenager who loved baseball\, to a father\, and eventually a professional baseball player.
X-ALT-DESC;FMTTYPE=text/html:This event is a presentation by Andreyah Maria Hernandez Black\, Gil&#39\;s daughter. Ms. Black will share the story of her father&#39\;s life as a teenager who loved baseball\, to a father\, and eventually a professional baseball player.&nbsp\;
LOCATION:Hoffman Auditorium in The Bruyette Athenaeum University of Saint Joseph 1678 Asylum Ave\, West Hartford\, CT 06117
UID:e.3150.12808
SEQUENCE:3
DTSTAMP:20260425T000354Z
URL:https://business.whchamber.com/events/details/black-history-month-event-my-father-s-story-in-the-negro-american-league-gilbert-gil-hernandez-black-12808
END:VEVENT

END:VCALENDAR
