BEGIN:VCALENDAR
VERSION:2.0
PRODID:-//ChamberMaster//Event Calendar 2.0//EN
METHOD:PUBLISH
X-PUBLISHED-TTL:P3D
REFRESH-INTERVAL:P3D
CALSCALE:GREGORIAN
BEGIN:VEVENT
DTSTART:20230224T170000Z
DTEND:20230224T190000Z
X-MICROSOFT-CDO-ALLDAYEVENT:FALSE
SUMMARY:Black Entrepreneur Empowerment Lunch with Howard K. Hill
DESCRIPTION:Black entrepreneurs are invited to join CMWP and Howard K. Hill for a lunch full of empowerment\, accountability\, and community!\n\nA?long with being a prominent New Haven community leader\, Howard is also the Owner of Howard K. Hill Funeral Homes\, Founder of the Black Business Alliance\, and Board President of the Greater New Haven Chamber of Commerce.\n\nThe event is partially sponsored by the Community Foundation for Greater New Haven.
X-ALT-DESC;FMTTYPE=text/html:<p>Black entrepreneurs are invited to join CMWP and Howard K. Hill for a lunch full of empowerment\, accountability\, and community!</p>\n\n<p>A?long with being a prominent New Haven community leader\, Howard is also the Owner of Howard K. Hill Funeral Homes\, Founder of the Black Business Alliance\, and Board President of the Greater New Haven Chamber of Commerce.</p>\n\n<p>The event is partially sponsored by the Community Foundation for Greater New Haven.</p>\n
LOCATION:Anchor Spa Restaurant 272 College Street\, New Haven\, CT\, 06511
UID:e.3150.12505
SEQUENCE:3
DTSTAMP:20260425T181407Z
URL:https://business.whchamber.com/events/details/black-entrepreneur-empowerment-lunch-with-howard-k-hill-12505
END:VEVENT

END:VCALENDAR
