BEGIN:VCALENDAR
VERSION:2.0
PRODID:-//ChamberMaster//Event Calendar 2.0//EN
METHOD:PUBLISH
X-PUBLISHED-TTL:P3D
REFRESH-INTERVAL:P3D
CALSCALE:GREGORIAN
BEGIN:VEVENT
DTSTART:20220210T000000Z
DTEND:20220210T010000Z
X-MICROSOFT-CDO-ALLDAYEVENT:FALSE
SUMMARY:Behind the Camera: Groundbreaking Women in Media
DESCRIPTION:The Women's Leadership Center at the University of Saint Joseph is pleased to present the 2021-2022 season\, "Advancing Your Career in a Complex World\," sponsored by and held in collaboration with The Hartford.   \n\n\n\nFeb. 9\, 2022: Behind the Camera: Groundbreaking Women in Media \n\n7-8 p.m. ET Virtual Event  \n\n\n\nJoin us for this dynamic event featuring women who have blazed a trail through a variety of media. The following leaders in film\, print\, and audio will speak about their career paths across the media landscape\, and will share insights and strategies for women and men interested in entering the field:  \n\n\n\n- Donna Collins\, Executive Producer\, Media and Marketing Consultant  \n\n\n\n- Neely Lohmann\, Head of Audio\, SoHi Media  \n\n\n\n- Lydia B. Smith\, Independent Producer/Director \n\n\n\nThe event is free to attend\, but registration is required. \n\n\n\nRegister here
X-ALT-DESC;FMTTYPE=text/html:<div>\n<p><span style="color:rgb(51\, 51\, 51)\; font-family:calibri\,calibri_embeddedfont\,calibri_msfontservice\,sans-serif\; font-size:12pt">The Women&rsquo\;s Leadership Center at the University of Saint Joseph is pleased to present the 2021-2022 season\, &ldquo\;Advancing Your Career in a Complex World\,&rdquo\; sponsored by and held in collaboration with The Hartford.</span><span style="font-family:calibri\,calibri_embeddedfont\,calibri_msfontservice\,sans-serif\; font-size:12pt">&nbsp\;&nbsp\;</span><span style="font-family:calibri\,calibri_embeddedfont\,calibri_msfontservice\,sans-serif\; font-size:12pt">&nbsp\;</span></p>\n</div>\n\n<div>\n<p><span style="font-family:calibri\,calibri_embeddedfont\,calibri_msfontservice\,sans-serif\; font-size:12pt">Feb. 9\, 2022: Behind the Camera: Groundbreaking Women in Media&nbsp\;</span></p>\n\n<p><span style="font-family:calibri\,calibri_embeddedfont\,calibri_msfontservice\,sans-serif\; font-size:12pt">7-8 p.m. ET Virtual Event&nbsp\;</span><span style="font-family:calibri\,calibri_embeddedfont\,calibri_msfontservice\,sans-serif\; font-size:12pt">&nbsp\;</span></p>\n</div>\n\n<div>\n<p><span style="font-family:calibri\,calibri_embeddedfont\,calibri_msfontservice\,sans-serif\; font-size:12pt">Join us for this dynamic event featuring women who have blazed a trail through a variety of media. The following leaders in film\, print\, and audio will speak about their career paths across the media landscape\, and will share insights and strategies for women and men interested in entering the field:&nbsp\;</span><span style="font-family:calibri\,calibri_embeddedfont\,calibri_msfontservice\,sans-serif\; font-size:12pt">&nbsp\;</span></p>\n</div>\n\n<div>\n<p><span style="font-family:calibri\,calibri_embeddedfont\,calibri_msfontservice\,sans-serif\; font-size:12pt">- Donna Collins\, Executive Producer\, Media and Marketing Consultant&nbsp\;</span><span style="font-family:calibri\,calibri_embeddedfont\,calibri_msfontservice\,sans-serif\; font-size:12pt">&nbsp\;</span></p>\n</div>\n\n<div>\n<p><span style="font-family:calibri\,calibri_embeddedfont\,calibri_msfontservice\,sans-serif\; font-size:12pt">- Neely Lohmann\, Head of Audio\, SoHi Media&nbsp\;</span><span style="font-family:calibri\,calibri_embeddedfont\,calibri_msfontservice\,sans-serif\; font-size:12pt">&nbsp\;</span></p>\n</div>\n\n<div>\n<p><span style="font-family:calibri\,calibri_embeddedfont\,calibri_msfontservice\,sans-serif\; font-size:12pt">- Lydia B. Smith\, Independent Producer/Director</span><span style="font-family:calibri\,calibri_embeddedfont\,calibri_msfontservice\,sans-serif\; font-size:12pt">&nbsp\;</span></p>\n</div>\n\n<div>\n<p><strong><span style="font-family:calibri\,calibri_embeddedfont\,calibri_msfontservice\,sans-serif\; font-size:12pt">The event is free to attend\, but registration is required.</span><span style="font-family:wordvisicarriagereturn_msfontservice\,calibri\,calibri_embeddedfont\,calibri_msfontservice\,sans-serif\; font-size:12pt">&nbsp\;</span></strong></p>\n</div>\n\n<div>\n<p><a class="Hyperlink SCXW87397572 BCX0" href="https://www.eventbrite.com/e/behind-the-camera-groundbreaking-women-in-media-tickets-249277424487" rel="noreferrer noopener" style="margin: 0px\; padding: 0px\; user-select: text\; -webkit-user-drag: none\; -webkit-tap-highlight-color: transparent\; text-decoration-line: none\; color: inherit\;" target="_blank"><span style="color:rgb(5\, 99\, 193)\; font-family:calibri\,calibri_embeddedfont\,calibri_msfontservice\,sans-serif\; font-size:12pt">Register here</span></a><span style="font-family:calibri\,calibri_embeddedfont\,calibri_msfontservice\,sans-serif\; font-size:12pt">&nbsp\;</span></p>\n</div>\n
LOCATION:Online
UID:e.3150.9316
SEQUENCE:3
DTSTAMP:20260425T203454Z
URL:https://business.whchamber.com/events/details/behind-the-camera-groundbreaking-women-in-media-9316
END:VEVENT

END:VCALENDAR
