BEGIN:VCALENDAR
VERSION:2.0
PRODID:-//ChamberMaster//Event Calendar 2.0//EN
METHOD:PUBLISH
X-PUBLISHED-TTL:P3D
REFRESH-INTERVAL:P3D
CALSCALE:GREGORIAN
BEGIN:VEVENT
DTSTART:20240709T213000Z
DTEND:20240709T223000Z
X-MICROSOFT-CDO-ALLDAYEVENT:FALSE
SUMMARY:Bank of America Presents: Better Money Habits Seminar - Starting a small business
DESCRIPTION:We will be holding an educational seminar and providing light refreshments. \n\nPlease RSVP to Shelby.L.Stewart@bofa.com to attend.\n\n\n\nEvery business needs a plan\, and this lesson can help you go from concept to company. Whether it's creating a budget or forming an LLC\, it breaks down the steps that an aspiring business owner needs to know.\n\n	Agenda: Starting a Small Business\n	\n		?Important considerations before starting a business.\n		Components of a business plan.\n		Taxes and other financial issues.
X-ALT-DESC;FMTTYPE=text/html:<span style="background-color:rgb(255\, 255\, 255)\; font-family:connections\,sans-serif"><span style="font-size:18px">We will be holding an educational seminar and providing light refreshments. </span><br />\n<span style="font-size:18px">Please RSVP to </span><u style="font-size:18px">Shelby.L.Stewart@bofa.com</u> <span style="font-size:18px">to attend.</span><br />\n<br />\n<span style="font-size:18px">Every business needs a plan\, and this lesson can help you go from concept to company. Whether it&#39\;s creating a budget or forming an LLC\, it breaks down the steps that an aspiring business owner needs to know.</span></span>\n<ul style="">\n	<li style="font-size: 18px\;"><span style="background-color:rgb(255\, 255\, 255)\; font-family:connections\,sans-serif">Agenda: Starting a Small Business</span>\n	<ul>\n		<li style="font-size: 18px\;"><span style="background-color:rgb(255\, 255\, 255)\; font-family:connections\,sans-serif"><span style="font-family:sans-serif\,arial\,verdana\,trebuchet ms\; font-size:13px">?</span>Important considerations before starting a business.</span></li>\n		<li style="font-size: 18px\;"><span style="background-color:rgb(255\, 255\, 255)\; font-family:connections\,sans-serif">Components of a business plan.</span></li>\n		<li style="font-size: 18px\;"><span style="background-color:rgb(255\, 255\, 255)\; font-family:connections\,sans-serif">Taxes and other financial issues.&nbsp\;</span></li>\n	</ul>\n	</li>\n</ul>\n<br />\n&nbsp\;
LOCATION:Bank Of America 4 N Main Street West Hartford CT 06107 Please enter from the door located on north main street beginning at 5:30pm\,door will be locked prior to prepare. Please RSVP to Shelby.L.Stewart@bofa.com
UID:e.3150.13013
SEQUENCE:3
DTSTAMP:20260424T164320Z
URL:https://business.whchamber.com/events/details/bank-of-america-presents-better-money-habits-seminar-starting-a-small-business-13013
END:VEVENT

END:VCALENDAR
