BEGIN:VCALENDAR
VERSION:2.0
PRODID:-//ChamberMaster//Event Calendar 2.0//EN
METHOD:PUBLISH
X-PUBLISHED-TTL:P3D
REFRESH-INTERVAL:P3D
CALSCALE:GREGORIAN
BEGIN:VEVENT
DTSTART:20240211T000000Z
DTEND:20240211T040000Z
X-MICROSOFT-CDO-ALLDAYEVENT:FALSE
SUMMARY:Ballet Theatre Company Presents "One Night in Paris"
DESCRIPTION:After a successful\, sold-out\, "One Night in Hollywood\," BTC's "One Night in " themed event is back for its 25th Anniversary Season and you won't want to miss it! Join BTC at the West Hartford Town Hall on February 10th as we transport you and your date to the "City of Love" for a romantic date-night. The event will offer a cash bar handled by With a Splash Mobile Bar. In addition to their signature mocktail\, the bar will include wine from BTC's Season Sponsor Brignole Vineyards and Champagne Alfred Gratien & Gratien & Meyer Cremant de Loire. Parisian fare will be served by Caf  Louise\, Le Mazet and Distinctive Ideas. BTC's professional dancers and members of the Junior Corps de Ballet will perform Artistic Director Stephanie Dattellas' "An American in Paris Suite." Enjoy a complimentary swing class to Danny Brilliant and Django Reinhardt led by Hartford Underground. To polish off the evening\, DJ Q-Boogie will keep you on the dance floor all night long. All proceeds from the event will support Ballet Theatre Company's community performance\, The Sensory-Friendly Ballet. The mission of the performance is to make BTC's main-stage performances (i.e The Nutcracker\, Cinderella) presented at The Bushnell accessible and inclusive to ALL!
X-ALT-DESC;FMTTYPE=text/html:After a successful\, sold-out\, &ldquo\;One Night in Hollywood\,&rdquo\; BTC&rsquo\;s &ldquo\;One Night in&hellip\;&rdquo\; themed event is back for its 25th Anniversary Season and you won&rsquo\;t want to miss it! Join BTC at the West Hartford Town Hall on February 10th as we transport you and your date to the &ldquo\;City of Love&rdquo\; for a romantic date-night. The event will offer a cash bar handled by With a Splash Mobile Bar. In addition to their signature mocktail\, the bar will include wine from BTC&#39\;s Season Sponsor Brignole Vineyards and Champagne Alfred Gratien &amp\; Gratien &amp\; Meyer Cremant de Loire. Parisian fare will be served by Caf&eacute\; Louise\, Le Mazet and Distinctive Ideas. BTC&rsquo\;s professional dancers and members of the Junior Corps de Ballet will perform Artistic Director Stephanie Dattellas&rsquo\; &ldquo\;An American in Paris Suite.&rdquo\; Enjoy a complimentary swing class to Danny Brilliant and Django Reinhardt led by Hartford Underground. To polish off the evening\, DJ Q-Boogie will keep you on the dance floor all night long. All proceeds from the event will support Ballet Theatre Company&#39\;s community performance\, The Sensory-Friendly Ballet. The mission of the performance is to make BTC&#39\;s main-stage performances (i.e The Nutcracker\, Cinderella) presented at The Bushnell accessible and inclusive to ALL!
LOCATION:West Hartford Town Hall Auditorium\, 50 South Main Street\, West Hartford\, CT
UID:e.3150.12753
SEQUENCE:3
DTSTAMP:20260425T000415Z
URL:https://business.whchamber.com/events/details/ballet-theatre-company-presents-one-night-in-paris-12753
END:VEVENT

END:VCALENDAR
