BEGIN:VCALENDAR
VERSION:2.0
PRODID:-//ChamberMaster//Event Calendar 2.0//EN
METHOD:PUBLISH
X-PUBLISHED-TTL:P3D
REFRESH-INTERVAL:P3D
CALSCALE:GREGORIAN
BEGIN:VEVENT
DTSTART:20230212T000000Z
DTEND:20230212T030000Z
X-MICROSOFT-CDO-ALLDAYEVENT:FALSE
SUMMARY:Ballet Theatre Company presents One Night in Hollywood
DESCRIPTION:Just in time for Valentine's Day\, Ballet Theatre Company invites you to One Night in Hollywood\, a spicy night of cocktails and dance performances recreating the most iconic Hollywood movies\, such as Dirty Dancing\, The Bandwagon\, Chicago\, Singin' in the Rain\, and more. Special performances by Ballet Theatre Company and guests\, stop/time dance theater and Hartford Underground. Whether married for 40 years or on your third date\, you should come out for a swingin' good time! Cash bar featuring signature cocktails with Wapoint Spirits and craft beer from Weha Brewing & Roasting\, a DJ\, open dance floor and more!
X-ALT-DESC;FMTTYPE=text/html:Just in time for Valentine&rsquo\;s Day\, Ballet Theatre Company invites you to One Night in Hollywood\, a spicy night of cocktails and dance performances recreating the most iconic Hollywood movies\, such as Dirty Dancing\, The Bandwagon\, Chicago\, Singin&rsquo\; in the Rain\, and more. Special performances by Ballet Theatre Company and guests\, stop/time dance theater and Hartford Underground. Whether married for 40 years or on your third date\, you should come out for a swingin&rsquo\; good time! Cash bar featuring signature cocktails with Wapoint Spirits and craft beer from Weha Brewing &amp\; Roasting\, a DJ\, open dance floor and more!
LOCATION:West Hartford Town Hall\, 50 S Main St
UID:e.3150.12469
SEQUENCE:3
DTSTAMP:20260425T181529Z
URL:https://business.whchamber.com/events/details/ballet-theatre-company-presents-one-night-in-hollywood-12469
END:VEVENT

END:VCALENDAR
