BEGIN:VCALENDAR
VERSION:2.0
PRODID:-//ChamberMaster//Event Calendar 2.0//EN
METHOD:PUBLISH
X-PUBLISHED-TTL:P3D
REFRESH-INTERVAL:P3D
CALSCALE:GREGORIAN
BEGIN:VEVENT
DTSTART:20230430T150000Z
DTEND:20230430T210000Z
X-MICROSOFT-CDO-ALLDAYEVENT:FALSE
SUMMARY:Ballet Theatre Company presents Cinderella
DESCRIPTION:This spring\, Ballet Theatre Company (BTC) is thrilled to revisit Stephanie Dattellas' original rendition of the beloved story ballet\, Cinderella. Dattellas' Cinderella\, which first premiered in 2018 at the University of Saint Joseph's Hoffman Auditorium to sold out audiences\, is an enthralling take on this classical ballet\, featuring enchanting classical ballet choreography woven together with theatrical and comedic elements to keep audience members of all ages on the edge of their seats. BTC is eager to bring this crowd-favorite production to the Bushnell's Belding Theater April 29-30\, 2023 with three public performances\, including one sensory-friendly performance\, A Sensory-Friendly Ballet* *The Sensory-Friendly Ballet ticket purchases will be open to the public for people of all ages. Local children's advocacy agencies will also be offered tickets to this special sensory-friendly theater experience.
X-ALT-DESC;FMTTYPE=text/html:This spring\, Ballet Theatre Company (BTC) is thrilled to revisit Stephanie Dattellas&rsquo\; original rendition of the beloved story ballet\, Cinderella. Dattellas&rsquo\; Cinderella\, which first premiered in 2018 at the University of Saint Joseph&rsquo\;s Hoffman Auditorium to sold out audiences\, is an enthralling take on this classical ballet\, featuring enchanting classical ballet choreography woven together with theatrical and comedic elements to keep audience members of all ages on the edge of their seats. BTC is eager to bring this crowd-favorite production to the Bushnell&rsquo\;s Belding Theater April 29-30\, 2023 with three public performances\, including one sensory-friendly performance\, A Sensory-Friendly Ballet* *The Sensory-Friendly Ballet ticket purchases will be open to the public for people of all ages. Local children&rsquo\;s advocacy agencies will also be offered tickets to this special sensory-friendly theater experience.
LOCATION:Maxwell M and Ruth R. Belding Theater THE BUSHNELL\, 166 Capitol Ave Hartford\, CT 06106
UID:e.3150.12514
SEQUENCE:3
DTSTAMP:20260425T151919Z
URL:https://business.whchamber.com/events/details/ballet-theatre-company-presents-cinderella-04-30-2023-12514
END:VEVENT

END:VCALENDAR
