BEGIN:VCALENDAR
VERSION:2.0
PRODID:-//ChamberMaster//Event Calendar 2.0//EN
METHOD:PUBLISH
X-PUBLISHED-TTL:P3D
REFRESH-INTERVAL:P3D
CALSCALE:GREGORIAN
BEGIN:VEVENT
DTSTART:20220423T180000Z
DTEND:20220423T200000Z
X-MICROSOFT-CDO-ALLDAYEVENT:FALSE
SUMMARY:Ballet Theatre Company presents Aladdin
DESCRIPTION:Follow Aladdin from the dynamic marketplace of his hometown as he sets off on an entrancing trip to the Cave of Riches\, filled with dancing diamonds\, rubies\, sapphires\, and more. On his return home\, Aladdin catches a glimpse of the Princess that sparks a tumultuous journey filled with twists and turns. Guided by the powerful Djinn\, Aladdin is faced with several challenges and conflicting choices that will leave audiences wondering\, "will love prevail?" Aladdin will premiere on The Bushnell's Maxwell M. & Ruth R. Belding Theater stage in three performances\; Saturday\, April 23 at 2pm and 7pm and Sunday\, April 24 at 3pm. The production will feature original choreography by Artistic Director Stephanie Dattellas\, staged to Carl Davis' riveting score and is based on the Middle Eastern folktales\, "One Thousand and One Nights." Instead of presenting an interpretive ballet of these cultural manifestations\, Dattellas invited collaboration from two choreographers of Indian and Chinese dance who represent communities that are being depicted in the production's storyline.
X-ALT-DESC;FMTTYPE=text/html:Follow Aladdin from the dynamic marketplace of his hometown as he sets off on an entrancing trip to the Cave of Riches\, filled with dancing diamonds\, rubies\, sapphires\, and more. On his return home\, Aladdin catches a glimpse of the Princess that sparks a tumultuous journey filled with twists and turns. Guided by the powerful Djinn\, Aladdin is faced with several challenges and conflicting choices that will leave audiences wondering\, &ldquo\;will love prevail?&rdquo\; Aladdin will premiere on The Bushnell&rsquo\;s Maxwell M. &amp\; Ruth R. Belding Theater stage in three performances\; Saturday\, April 23 at 2pm and 7pm and Sunday\, April 24 at 3pm. The production will feature original choreography by Artistic Director Stephanie Dattellas\, staged to Carl Davis&#39\; riveting score and is based on the Middle Eastern folktales\, &ldquo\;One Thousand and One Nights.&rdquo\; Instead of presenting an interpretive ballet of these cultural manifestations\, Dattellas invited collaboration from two choreographers of Indian and Chinese dance who represent communities that are being depicted in the production&rsquo\;s storyline.
LOCATION:The Bushnell - Maxwell M. & Ruth R. Belding Theater 166 Capitol Ave. Hartford\, CT 06106
UID:e.3150.9372
SEQUENCE:3
DTSTAMP:20260425T233938Z
URL:https://business.whchamber.com/events/details/ballet-theatre-company-presents-aladdin-9372
END:VEVENT

END:VCALENDAR
