BEGIN:VCALENDAR
VERSION:2.0
PRODID:-//ChamberMaster//Event Calendar 2.0//EN
METHOD:PUBLISH
X-PUBLISHED-TTL:P3D
REFRESH-INTERVAL:P3D
CALSCALE:GREGORIAN
BEGIN:VEVENT
DTSTART:20211203T171500Z
DTEND:20211203T180000Z
X-MICROSOFT-CDO-ALLDAYEVENT:FALSE
SUMMARY:Ballet Hartford: The Nutcracker Then and Now (Act II Excerpts)
DESCRIPTION:Enjoy this festive performance featuring excerpts of The Nutcracker performed by Ballet Hartford and its Pre-Professional Division. Journey with Clara to the Land of the Sweets alongside an inspirational lecture about the history of this beloved\, holiday classic. If inclined\, please bring canned or shelved goods as a part of Ballet Hartford's fundraiser for local social service nonprofit organization: Hands on Hartford.
X-ALT-DESC;FMTTYPE=text/html:<span style="font-family:times new roman"><span style="color:rgb(122\, 122\, 122)\; font-size:17px">Enjoy this festive performance featuring excerpts of The Nutcracker performed by Ballet Hartford and its Pre-Professional Division. Journey with Clara to the Land of the Sweets alongside an inspirational lecture about the history of this beloved\, holiday classic. If inclined\, please bring canned or shelved goods as a part of Ballet Hartford&rsquo\;s fundraiser for local social service nonprofit organization: Hands on Hartford.</span></span><br />\n<br />\n&nbsp\;
LOCATION:EcoSpace 224 Farmington Ave Hartford\, CT 06105
UID:e.3150.9279
SEQUENCE:3
DTSTAMP:20260425T175822Z
URL:https://business.whchamber.com/events/details/ballet-hartford-the-nutcracker-then-and-now-act-ii-excerpts-12-03-2021-9279
END:VEVENT

END:VCALENDAR
