BEGIN:VCALENDAR
VERSION:2.0
PRODID:-//ChamberMaster//Event Calendar 2.0//EN
METHOD:PUBLISH
X-PUBLISHED-TTL:P3D
REFRESH-INTERVAL:P3D
CALSCALE:GREGORIAN
BEGIN:VEVENT
DTSTART:20220520T230000Z
DTEND:20220521T001500Z
X-MICROSOFT-CDO-ALLDAYEVENT:FALSE
SUMMARY:Ballet Hartford- Spring Performance featuring Alice in Wonderland
DESCRIPTION:Ballet Hartford presents invigorating mixed repertoire alongside a production of Alice in Wonderland. Enjoy the company's mixed repertoire from choreographers Gilbert Bolden III (NYCB)\, Caleb Mitchell (Houston Ballet)\, Steve Rooks (Martha Graham Dance Company)\, and more. Then follow Alice's adventures as she travels into the curious and imaginative world of Wonderland. Joined by Ballet Hartford's Pre-Professional Division\, this exciting performance is not to be missed!
X-ALT-DESC;FMTTYPE=text/html:<span style="color:rgba(0\, 0\, 0\, 0.87)\; font-family:-apple-system\,system-ui\,segoe ui\,roboto\,oxygen\,ubuntu\,cantarell\,fira sans\,droid sans\,helvetica neue\,sans-serif\; font-size:14px">Ballet Hartford presents invigorating mixed repertoire alongside a production of Alice in Wonderland. Enjoy the company&#39\;s mixed repertoire from choreographers Gilbert Bolden III (NYCB)\, Caleb Mitchell (Houston Ballet)\, Steve Rooks (Martha Graham Dance Company)\, and more. Then follow Alice&#39\;s adventures as she travels into the curious and imaginative world of Wonderland. Joined by Ballet Hartford&#39\;s Pre-Professional Division\, this exciting performance is not to be missed!</span>
LOCATION:Avon High School
UID:e.3150.9403
SEQUENCE:3
DTSTAMP:20260426T010531Z
URL:https://business.whchamber.com/events/details/ballet-hartford-spring-performance-featuring-alice-in-wonderland-9403
END:VEVENT

END:VCALENDAR
