BEGIN:VCALENDAR
VERSION:2.0
PRODID:-//ChamberMaster//Event Calendar 2.0//EN
METHOD:PUBLISH
X-PUBLISHED-TTL:P3D
REFRESH-INTERVAL:P3D
CALSCALE:GREGORIAN
BEGIN:VEVENT
DTSTART:20220721T160000Z
DTEND:20220721T170000Z
X-MICROSOFT-CDO-ALLDAYEVENT:FALSE
SUMMARY:Asset Allocation - Monthly Money Matters
DESCRIPTION:For this workshop\, we'll talk about how to allocate your investment portfolio based on different time horizons and risk tolerance levels. Learn about diversification\, risk\, volatility\, and tax implications of different investments.
X-ALT-DESC;FMTTYPE=text/html:<span style="color:rgb(102\, 102\, 102)\; font-family:helvetica neue\,helvetica\,arial\,sans-serif\; font-size:16px">For this workshop\, we&#39\;ll talk about how to allocate your investment portfolio based on different time horizons and risk tolerance levels. Learn about diversification\, risk\, volatility\, and tax implications of different investments.</span>
LOCATION:This is an online webinar!
UID:e.3150.9402
SEQUENCE:3
DTSTAMP:20260426T040101Z
URL:https://business.whchamber.com/events/details/asset-allocation-monthly-money-matters-9402
END:VEVENT

END:VCALENDAR
