BEGIN:VCALENDAR
VERSION:2.0
PRODID:-//ChamberMaster//Event Calendar 2.0//EN
METHOD:PUBLISH
X-PUBLISHED-TTL:P3D
REFRESH-INTERVAL:P3D
CALSCALE:GREGORIAN
BEGIN:VEVENT
DTSTART:20230118T230000Z
DTEND:20230119T020000Z
X-MICROSOFT-CDO-ALLDAYEVENT:FALSE
SUMMARY:Artisan West Hartford Presents An Evening of Laughter
DESCRIPTION:Artisan Dinner & Comedy Series\n\n	Dinner is at 6:30 PM\n	The show is at 8:00 PM \n\nTo purchase tickets ($85++ per person) and make your reservations please call 860-937-2525.\n\n\n\nComedians:\n\n\n	January 18\, 2023 - Moody McCarthy\n\n	\n		Moody McCarthy is a stand-up comedian who has performed on Jimmy Kimmel Live\, Conan\, and twice on the Letterman Show.  He can be seen in North America's top clubs and heard on Sirius/XM radio.  Moody started his career in his hometown of Syracuse\, NY\, but is now based in New York City\, where he lives with his wife and two wee lasses.  Moody's material is described as original but universal\, and smart without being trite.  Couple that with a disarming presence & in-the-moment chops\, you'll see why he's earned the respect of his peers for his ability to "go up cold".  His style also translates well to virtual shows and in 2020 he delighted Pfizer's senior global team with a performance.  (What a hero...)  \n	\n	\n	February 22\, 2023 - Rodney Laney\n	\n		Rodney Laney has completed pilots for Comedy Central\, MTV\, and A&E. He has been seen on P.Diddy's Bad Boys of Comedy on HBO\, FOX News Channel's Red Eye\, The Late Late Show and Comics UnleashedCBS\, Comedy Central's Premium Blend\, and the BBC's The World Stand's Up\, truTV's The Smoking Gun Presents \, comedy.tv on the HD channel\, and two appearances on Gotham Comedy Live AXSTV. He has also appeared at the prestigious Just for Laughs Comedy Festival Montreal and LOL Lounge TBS Presents A Very Funny Festival: Just for Laughs Chicago.\n	\n	\n	March 15\, 2023 - Jon Fisch \n	\n		Jon Fisch is one of only a handful of comedians who has appeared on both The Late Show with David Letterman and The Late Show with Stephen Colbert. HIs latest album and special\, Hinged\, was named a Laugh Button Top 10 Comedy Special and was nominated for Album of the Year by The Interrobang. You may recognize Jon from Comedy Central or NBC's Last Comic Standing where he was the New York City Capital One Audience Favorite. Jon has performed at multiple comedy festivals including the HBO Comedy Arts Festival\, the Great American Comedy Festival and Montreal's prestigious "Just for Laughs" Festival. He is regular and favorite performer in NYC at Gotham Comedy Club and The Comedy Cellar.
X-ALT-DESC;FMTTYPE=text/html:<span style="font-size:11px"><span style="font-family:tahoma"><big><strong>Artisan Dinner &amp\; Comedy Series</strong></big></span></span>\n<ul>\n	<li><span style="font-size:11px"><span style="font-family:tahoma"><big>Dinner is at 6:30 PM</big></span></span></li>\n	<li><span style="font-size:11px"><span style="font-family:tahoma"><big>The show is at 8:00 PM&nbsp\;</big></span></span></li>\n</ul>\n<span style="font-size:11px"><span style="font-family:tahoma"><big>To purchase tickets ($85++ per person) and make your reservations please call 860-937-2525.<br />\n<br />\n<u><strong>Comedians:</strong></u></big></span></span>\n\n<ul>\n	<li><span style="font-size:11px"><span style="font-family:tahoma"><big><strong><span style="color:black">January 18\, 2023 -&nbsp\;Moody McCarthy</span></strong></big></span></span>\n\n	<ul>\n		<li><span style="font-size:11px"><span style="font-family:tahoma"><big><span style="color:black">Moody McCarthy is a stand-up comedian who has performed on Jimmy Kimmel Live\, Conan\, and twice on the Letterman Show.&nbsp\;&nbsp\;</span><span style="color:black">He can be seen in North America&rsquo\;s top clubs and heard on Sirius/XM radio.&nbsp\;</span><span style="color:black">&nbsp\;</span><span style="color:black">Moody started his career in his hometown of Syracuse\, NY\, but is now based in New York City\, where he lives with his wife and two wee lasses.&nbsp\;</span><span style="color:black">&nbsp\;</span><span style="color:black">Moody&rsquo\;s material is described as original but universal\, and smart without being trite.&nbsp\;</span><span style="color:black">&nbsp\;</span><span style="color:black">Couple that with a disarming presence &amp\; in-the-moment chops\, you&rsquo\;ll see why he&rsquo\;s earned the respect of his peers for his ability to &ldquo\;go up cold&rdquo\;.&nbsp\;</span><span style="color:black">&nbsp\;</span><span style="color:black">His style also translates well to virtual shows and in 2020 he delighted Pfizer&rsquo\;s senior global team with a performance.&nbsp\;</span><span style="color:black">&nbsp\;</span><span style="color:black">(What a hero...)</span><span style="color:black">&nbsp\;&nbsp\;</span></big></span></span></li>\n	</ul>\n	</li>\n	<li><span style="font-size:11px"><span style="font-family:tahoma"><big><strong><span style="color:black">February 22\, 2023 -&nbsp\;Rodney Laney</span></strong></big></span></span>\n	<ul>\n		<li><span style="font-size:11px"><span style="font-family:tahoma"><big><span style="color:black\; text-align:justify">Rodney Laney has completed pilots for Comedy Central\, MTV\, and A&amp\;E. He has been seen on&nbsp\;</span><em style="text-align:justify"><span style="color:black">P.Diddy&rsquo\;s Bad Boys of Comedy</span></em><span style="color:black\; text-align:justify">&nbsp\;</span><span style="color:black\; text-align:justify">on HBO\, FOX News Channel&rsquo\;s</span><span style="color:black\; text-align:justify">&nbsp\;</span><em style="text-align:justify"><span style="color:black">Red Eye</span></em><span style="color:black\; text-align:justify">\,</span><span style="color:black\; text-align:justify">&nbsp\;</span><em style="text-align:justify"><span style="color:black">The Late</span></em><span style="color:black\; text-align:justify">&nbsp\;</span><em style="text-align:justify"><span style="color:black">Late Show</span></em><span style="color:black\; text-align:justify">&nbsp\;</span><span style="color:black\; text-align:justify">and</span><span style="color:black\; text-align:justify">&nbsp\;</span><em style="text-align:justify"><span style="color:black">Comics Unleashed</span></em><span style="color:black\; text-align:justify">CBS\, Comedy Central&rsquo\;s</span><span style="color:black\; text-align:justify">&nbsp\;</span><em style="text-align:justify"><span style="color:black">Premium Blend</span></em><span style="color:black\; text-align:justify">\, and the BBC&rsquo\;s</span><span style="color:black\; text-align:justify">&nbsp\;</span><em style="text-align:justify"><span style="color:black">The World Stand&rsquo\;s Up</span></em><span style="color:black\; text-align:justify">\, truTV&rsquo\;s</span><span style="color:black\; text-align:justify">&nbsp\;</span><em style="text-align:justify"><span style="color:black">The Smoking Gun Presents&hellip\;</span></em><span style="color:black\; text-align:justify">\,</span><span style="color:black\; text-align:justify">&nbsp\;</span><em style="text-align:justify"><span style="color:black">comedy.tv</span></em><span style="color:black\; text-align:justify">&nbsp\;</span><span style="color:black\; text-align:justify">on the HD channel\, and two appearances on</span><span style="color:black\; text-align:justify">&nbsp\;</span><em style="text-align:justify"><span style="color:black">Gotham Comedy Live</span></em><em style="text-align:justify"><span style="color:black">&nbsp\;</span></em><span style="color:black\; text-align:justify">AXSTV. He has also appeared at the prestigious Just for Laughs Comedy Festival Montreal and LOL Lounge TBS Presents</span><span style="color:black\; text-align:justify">&nbsp\;</span><em style="text-align:justify"><span style="color:black">A Very Funny Festival</span></em><span style="color:black\; text-align:justify">: Just for Laughs Chicago.</span></big></span></span></li>\n	</ul>\n	</li>\n	<li><span style="font-size:11px"><span style="font-family:tahoma"><big><strong><span style="color:black">March 15\, 2023 -&nbsp\;</span><span style="color:#1b1b1b">Jon Fisch&nbsp\;</span></strong></big></span></span>\n	<ul>\n		<li><span style="font-size:11px"><span style="font-family:tahoma"><big><span style="color:#1b1b1b">Jon Fisch is one of only a handful of comedians who has appeared on both</span>&nbsp\;<em><span style="color:#1b1b1b">The Late Show with David Letterman</span></em>&nbsp\;<span style="color:#1b1b1b">and</span>&nbsp\;<em><span style="color:#1b1b1b">The Late Show with Stephen Colbert</span></em><span style="color:#1b1b1b">. HIs latest album and special\,</span>&nbsp\;<em><span style="color:#1b1b1b">Hinged</span></em><span style="color:#1b1b1b">\, was named a Laugh Button Top 10 Comedy Special and was nominated for Album of the Year by The</span>&nbsp\;<span style="color:#1B1B1B">Interrobang.</span>&nbsp\;<span style="color:#1b1b1b">You may recognize Jon from Comedy Central or NBC&#39\;s Last Comic Standing where he was the New York City Capital One Audience Favorite. Jon has performed at multiple comedy festivals including the HBO Comedy Arts Festival\, the Great American Comedy Festival and Montreal&#39\;s prestigious &ldquo\;Just for Laughs&rdquo\;&nbsp\;Festival. He is regular and favorite performer in NYC at Gotham Comedy Club and The Comedy Cellar.&nbsp\;</span></big></span></span></li>\n	</ul>\n	</li>\n</ul>\n
LOCATION:Artisan West Hartford 1 Memorial Road West Hartford\, CT 06107
UID:e.3150.12426
SEQUENCE:3
DTSTAMP:20260425T193235Z
URL:https://business.whchamber.com/events/details/artisan-west-hartford-presents-an-evening-of-laughter-12426
END:VEVENT

END:VCALENDAR
