BEGIN:VCALENDAR
VERSION:2.0
PRODID:-//ChamberMaster//Event Calendar 2.0//EN
METHOD:PUBLISH
X-PUBLISHED-TTL:P3D
REFRESH-INTERVAL:P3D
CALSCALE:GREGORIAN
BEGIN:VEVENT
DTSTART:20220625T220000Z
DTEND:20220626T030000Z
X-MICROSOFT-CDO-ALLDAYEVENT:FALSE
SUMMARY:ART maniFESTation: RiseUP for Change
DESCRIPTION:Leveraging the success and momentum of last year's inaugural event\, the 2022 ART maniFESTation: RiseUP for Change is your opportunity to experience the impact of public art\, creativity\, and culture on the future of Connecticut.\n\nART maniFESTation provides support to RiseUP's nonprofit mission of empowering communities to imagine new possibilities.\n\nThis event will activate all 5 Senses as supporters transport themselves and experience the future of Connecticut's vibrant communities through ART\, CREATIVITY\, and CULTURE.\n\nThe 2022 ART maniFESTation will feature Immersive ART Installations\, LIVE Music & Entertainment\, feature work from CT's top artists\, and share the State-wide impact RiseUP has had on communities and youth since 2012.\n\nTickets are $50 and include open bar\, food\, and an amazing evening.\n\nContact sponsor@theriseupgroup.org if interested in supporting the 2022 ART maniFESTation.\n\n$15\,000+maniFEST Sponsor\n\n$5\,000+ Imagine Sponsor\n\n$1\,000+ Dream Sponsor
X-ALT-DESC;FMTTYPE=text/html:<p>Leveraging the success and momentum of last year&rsquo\;s inaugural event\, the 2022 ART maniFESTation: RiseUP for Change is your opportunity to experience the impact of public art\, creativity\, and culture on the future of Connecticut.</p>\n\n<p>ART maniFESTation provides support to RiseUP&#39\;s nonprofit mission of empowering communities to imagine new possibilities.</p>\n\n<p>This event will activate all 5 Senses as supporters transport themselves and experience the future of Connecticut&#39\;s vibrant communities through ART\, CREATIVITY\, and CULTURE.</p>\n\n<p>The 2022 ART maniFESTation will feature Immersive ART Installations\, LIVE Music &amp\; Entertainment\, feature work from CT&#39\;s top artists\, and share the State-wide impact RiseUP has had on communities and youth since 2012.</p>\n\n<p>Tickets are $50 and include open bar\, food\, and an amazing evening.</p>\n\n<p>Contact sponsor@theriseupgroup.org if interested in supporting the 2022 ART maniFESTation.</p>\n\n<p>$15\,000+maniFEST Sponsor</p>\n\n<p>$5\,000+ Imagine Sponsor</p>\n\n<p>$1\,000+ Dream Sponsor&nbsp\;</p>\n
LOCATION:Thomas Hooker Live @ Colt Factory 1 Sequassen St\, Hartford\, CT 06106
UID:e.3150.9482
SEQUENCE:3
DTSTAMP:20260426T023248Z
URL:https://business.whchamber.com/events/details/art-manifestation-riseup-for-change-9482
END:VEVENT

END:VCALENDAR
