BEGIN:VCALENDAR
VERSION:2.0
PRODID:-//ChamberMaster//Event Calendar 2.0//EN
METHOD:PUBLISH
X-PUBLISHED-TTL:P3D
REFRESH-INTERVAL:P3D
CALSCALE:GREGORIAN
BEGIN:VEVENT
DTSTART:20250327T220000Z
DTEND:20250328T010000Z
X-MICROSOFT-CDO-ALLDAYEVENT:FALSE
SUMMARY:Art After Dark: A Paint Night Experience
DESCRIPTION:Prepare to glow under the neon lights of Art After Dark! Wear your whites or brightest attire and become part of the canvas as Posh Paint guides us through a black light paint and sip experience while enjoying the infectious beats of DJ Q-Boogie. Let your colors pop against the darkness as we honor HERstory during Women's History Month at Warehouse 635. Experience the mesmerizing artistry unfold before your eyes as attendees witness a live body painting session! This night promises to be a masterpiece in every sense. Don't blend in   stand out and shine bright with us! Ticket price includes: Paint supplies and canvas board Signature cocktails 3-course dinner Live body painting experience Please note that all ticket purchases are final\, and refunds will not be issued. Thank you for your understanding.
X-ALT-DESC;FMTTYPE=text/html:Prepare to glow under the neon lights of Art After Dark! Wear your whites or brightest attire and become part of the canvas as Posh Paint guides us through a black light paint and sip experience while enjoying the infectious beats of DJ Q-Boogie. Let your colors pop against the darkness as we honor HERstory during Women&#39\;s History Month at Warehouse 635. Experience the mesmerizing artistry unfold before your eyes as attendees witness a live body painting session! This night promises to be a masterpiece in every sense. Don&#39\;t blend in &ndash\; stand out and shine bright with us! Ticket price includes: Paint supplies and canvas board Signature cocktails 3-course dinner Live body painting experience Please note that all ticket purchases are final\, and refunds will not be issued. Thank you for your understanding.
LOCATION:Warehouse 635 635 New Park Ave #2F West Hartford\, CT 06110
UID:e.3150.15849
SEQUENCE:3
DTSTAMP:20260424T024605Z
URL:https://business.whchamber.com/events/details/art-after-dark-a-paint-night-experience-15849
END:VEVENT

END:VCALENDAR
