BEGIN:VCALENDAR
VERSION:2.0
PRODID:-//ChamberMaster//Event Calendar 2.0//EN
METHOD:PUBLISH
X-PUBLISHED-TTL:P3D
REFRESH-INTERVAL:P3D
CALSCALE:GREGORIAN
BEGIN:VEVENT
DTSTART:20240426T220000Z
DTEND:20240427T000000Z
X-MICROSOFT-CDO-ALLDAYEVENT:FALSE
SUMMARY:April Farm to Table Dinner at Auerfarm with Distinctive Ideas
DESCRIPTION:Spring Dinner at Auerfarm\n\nCome join us for a delightful evening at Auerfarm as we celebrate the arrival of spring! Indulge in a scrumptious 4 course meal prepared by our talented Resident Chef Kristiann of Distinctive Ideas. This is a fantastic opportunity to socialize\, enjoy delicious food\, and embrace the beauty of the changing season.\n\nDon't miss out on this special event. Mark your calendars and get ready for a memorable spring farm-to-table dinner experience at Auerfarm!\n\n \n\nFriday - April 25th\n\n6 pm - 8 pm\n\n$85/person (+ fees)\n\n \n\nPlease contact us with any dietary restrictions. Most can be accomodated prior to the event.
X-ALT-DESC;FMTTYPE=text/html:<p><strong>Spring Dinner at Auerfarm</strong></p>\n\n<p>Come join us for a delightful evening at&nbsp\;<strong>Auerfarm</strong>&nbsp\;as we celebrate the arrival of spring! Indulge in a scrumptious 4 course meal prepared by our talented Resident Chef Kristiann of Distinctive Ideas. This is a fantastic opportunity to socialize\, enjoy delicious food\, and embrace the beauty of the changing season.</p>\n\n<p>Don&#39\;t miss out on this special event. Mark your calendars and get ready for a memorable&nbsp\;<strong>spring farm-to-table dinner</strong>&nbsp\;experience at&nbsp\;<strong>Auerfarm</strong>!</p>\n\n<p>&nbsp\;</p>\n\n<p><strong>Friday - April 25th</strong></p>\n\n<p>6 pm - 8 pm</p>\n\n<p>$85/person (+ fees)</p>\n\n<p>&nbsp\;</p>\n\n<p>Please contact us with any dietary restrictions. Most can be accomodated prior to the event.</p>\n
LOCATION:Auerfarm 158 Auer Farm Rd Bloomfield\, CT 06002
UID:e.3150.12980
SEQUENCE:3
DTSTAMP:20260424T210124Z
URL:https://business.whchamber.com/events/details/april-farm-to-table-dinner-at-auerfarm-with-distinctive-ideas-12980
END:VEVENT

END:VCALENDAR
