BEGIN:VCALENDAR
VERSION:2.0
PRODID:-//ChamberMaster//Event Calendar 2.0//EN
METHOD:PUBLISH
X-PUBLISHED-TTL:P3D
REFRESH-INTERVAL:P3D
CALSCALE:GREGORIAN
BEGIN:VEVENT
DTSTART:20220712T220000Z
DTEND:20220712T230000Z
X-MICROSOFT-CDO-ALLDAYEVENT:FALSE
SUMMARY:American Rescue Plan Informational Session 2
DESCRIPTION:Join us for an informational session to discuss the roll-out of the American Rescue Plan.
X-ALT-DESC;FMTTYPE=text/html:Join us for an informational session to discuss the roll-out of the American Rescue Plan.
LOCATION:Zoom - register for link
UID:e.3150.9492
SEQUENCE:3
DTSTAMP:20260426T040034Z
URL:https://business.whchamber.com/events/details/american-rescue-plan-informational-session-2-9492
END:VEVENT

END:VCALENDAR
