BEGIN:VCALENDAR
VERSION:2.0
PRODID:-//ChamberMaster//Event Calendar 2.0//EN
METHOD:PUBLISH
X-PUBLISHED-TTL:P3D
REFRESH-INTERVAL:P3D
CALSCALE:GREGORIAN
BEGIN:VEVENT
DTSTART:20240416T180000Z
DTEND:20240505T200000Z
X-MICROSOFT-CDO-ALLDAYEVENT:FALSE
SUMMARY:ALEXANDER AND THE TERRIBLE\, HORRIBLE\, NO GOOD\, VERY BAD DAY
DESCRIPTION:Alexander is having a bad day. A terrible day. A horrible day. To be quite honest\, it's a terrible\, horrible\, no good\, very bad day. Not only does he wake up with gum in his hair\, but his mother forgets to pack him dessert\, and his best friend decides he's not his best friend anymore. It is enough to make anyone want to go to Australia. But then\, everybody has bad days\, sometimes. In this delightful adaptation of her popular book\, Judith Viorst sets Alexander's rather trying life to music and brings to the stage one of America's feistiest characters. Alexander's struggles with life's daily dramas will not only entertain but educate young audiences as they identify with Alexander and the obstacles he encounters.
X-ALT-DESC;FMTTYPE=text/html:Alexander is having a bad day. A terrible day. A horrible day. To be quite honest\, it&#39\;s a terrible\, horrible\, no good\, very bad day. Not only does he wake up with gum in his hair\, but his mother forgets to pack him dessert\, and his best friend decides he&#39\;s not his best friend anymore. It is enough to make anyone want to go to Australia. But then\, everybody has bad days\, sometimes. In this delightful adaptation of her popular book\, Judith Viorst sets Alexander&#39\;s rather trying life to music and brings to the stage one of America&#39\;s feistiest characters. Alexander&#39\;s struggles with life&#39\;s daily dramas will not only entertain but educate young audiences as they identify with Alexander and the obstacles he encounters.
LOCATION:Playhouse on Park 244 Park Road West Hartford\, CT\, 06119
UID:e.3150.12624
SEQUENCE:3
DTSTAMP:20260424T210259Z
URL:https://business.whchamber.com/events/details/alexander-and-the-terrible-horrible-no-good-very-bad-day-12624
END:VEVENT

END:VCALENDAR
