BEGIN:VCALENDAR
VERSION:2.0
PRODID:-//ChamberMaster//Event Calendar 2.0//EN
METHOD:PUBLISH
X-PUBLISHED-TTL:P3D
REFRESH-INTERVAL:P3D
CALSCALE:GREGORIAN
BEGIN:VEVENT
DTSTART:20220424T170000Z
DTEND:20220424T190000Z
X-MICROSOFT-CDO-ALLDAYEVENT:FALSE
SUMMARY:Adolescent Program Open House
DESCRIPTION:Open House\n\nSunday\, April 24th from 1:00-3:00p.m.\n\nOur curriculum\, for 7th through 9th grade students\, is centered on rigorous academic studies and purposeful\, land-based work that emphasizes the interconnectedness in all academic subjects. Bring your adolescents and learn more about the program while becoming immersed in our beautiful Millstream Farm campus by joining us for an in-person Adolescent Open House! Call 860.236.4565 or email tokoo@msgh.org for more information!\n\nREGISTER HERE\n\n \n\nAdolescent Program\n\nThe Adolescent Program at the Montessori School of Greater Hartford demonstrates consideration for the appropriate intellectual\, social\, physical\, aesthetic\, emotional and ethical development of students in all aspects of school and student life. The campus is located on a 30-acre farm with goats\, sheep\, chickens\, honey bees\, gardens\, fields\, woodlands\, ponds\, streams and a river. The environment\, the curriculum and the guides (teachers) at the Adolescent Program provide opportunities for students to reach their maximum potential.
X-ALT-DESC;FMTTYPE=text/html:<h2>Open House</h2>\n\n<h3>Sunday\, April 24th from 1:00-3:00p.m.</h3>\n\n<p>Our curriculum\, for 7th through 9th grade students\, is centered on rigorous academic studies and purposeful\, land-based work that emphasizes the interconnectedness in all academic subjects. Bring your adolescents and learn more about the program while becoming immersed in our beautiful Millstream Farm campus by joining us for an in-person Adolescent Open House! Call&nbsp\;<a href="tel:869-236-4565" style="color: rgb(245\, 131\, 87)\; font-family: Muli\, sans-serif\; font-weight: 700\; text-decoration-line: none\; transition: all 0.3s ease 0s\;">860.236.4565</a>&nbsp\;or email&nbsp\;<a href="mailto:tokoo@msgh.org?subject=Adolescent%20Open%20House" style="color: rgb(245\, 131\, 87)\; font-family: Muli\, sans-serif\; font-weight: 700\; text-decoration-line: none\; transition: all 0.3s ease 0s\;">tokoo@msgh.org</a>&nbsp\;for more information!</p>\n\n<p><a class="blue-button" href="https://www.signupgenius.com/go/8050d4da9ab2ca1fd0-adolescent3" style="color: rgb(255\, 255\, 255)\; font-family: Montserrat\, sans-serif\; text-decoration-line: none\; transition: all 0.2s ease 0s\; background: rgb(110\, 210\, 232)\; border-radius: 4px\; box-sizing: border-box\; display: inline-block\; font-size: 12px\; height: auto\; letter-spacing: 1.2px\; line-height: 13.2px\; margin: 0px\; opacity: 1\; padding: 12px 32px\; position: relative\; text-align: center\; text-transform: uppercase\;" target="_blank">REGISTER HERE</a></p>\n\n<p>&nbsp\;</p>\n\n<p>Adolescent Program</p>\n\n<p>The Adolescent Program at the Montessori School of Greater Hartford demonstrates consideration for the appropriate intellectual\, social\, physical\, aesthetic\, emotional and ethical development of students in all aspects of school and student life. The campus is located on a 30-acre farm with goats\, sheep\, chickens\, honey bees\, gardens\, fields\, woodlands\, ponds\, streams and a river. The environment\, the curriculum and the guides (teachers) at the Adolescent Program provide opportunities for students to reach their maximum potential.</p>\n\n<p>&nbsp\;</p>\n
LOCATION:MSGH Adolescent Program 741 Steele Rd New Hartford\, CT\, 06057 United States
UID:e.3150.9392
SEQUENCE:3
DTSTAMP:20260425T232810Z
URL:https://business.whchamber.com/events/details/adolescent-program-open-house-9392
END:VEVENT

END:VCALENDAR
