BEGIN:VCALENDAR
VERSION:2.0
PRODID:-//ChamberMaster//Event Calendar 2.0//EN
METHOD:PUBLISH
X-PUBLISHED-TTL:P3D
REFRESH-INTERVAL:P3D
CALSCALE:GREGORIAN
BEGIN:VEVENT
DTSTART:20230225T230000Z
DTEND:20230226T040000Z
X-MICROSOFT-CDO-ALLDAYEVENT:FALSE
SUMMARY:A Watkinson Affair
DESCRIPTION:Your presence is requested at Watkinson School's largest fundraiser\, A Watkinson Affair. This event will be a sit-down\, black-tie optional dinner celebrating Watkinson School. The evening will include: cocktail hour\, silent and live auctions\, raffles\, dinner\, dancing\, paddle raise and we will be honoring Philanthropists of the Year - Jan and David Klein.
X-ALT-DESC;FMTTYPE=text/html:Your presence is requested at Watkinson School&#39\;s largest fundraiser\, A Watkinson Affair. This event will be a sit-down\, black-tie optional dinner celebrating Watkinson School. The evening will include: cocktail hour\, silent and live auctions\, raffles\, dinner\, dancing\, paddle raise and we will be honoring Philanthropists of the Year - Jan and David Klein.
LOCATION:Hartford Marriott Downtown Room Block Available $169 Call 1-888--236-2427 use group code "Wat"
UID:e.3150.12461
SEQUENCE:3
DTSTAMP:20260425T181137Z
URL:https://business.whchamber.com/events/details/a-watkinson-affair-12461
END:VEVENT

END:VCALENDAR
