BEGIN:VCALENDAR
VERSION:2.0
PRODID:-//ChamberMaster//Event Calendar 2.0//EN
METHOD:PUBLISH
X-PUBLISHED-TTL:P3D
REFRESH-INTERVAL:P3D
CALSCALE:GREGORIAN
BEGIN:VEVENT
DTSTART:20220225T171500Z
DTEND:20220225T180000Z
X-MICROSOFT-CDO-ALLDAYEVENT:FALSE
SUMMARY:A Classical Evening - Matinee Performance
DESCRIPTION:Ballet Hartford presents a classical bill with excerpts from Act II of Giselle alongside classical work created by choreographers Leyna Doran\, Stephanie Gagliardi\, and Kevin Jenkins. Classical variations performed by Ballet Hartford's Pre-Professional Division will be interspersed throughout the performance.
X-ALT-DESC;FMTTYPE=text/html:<span style="font-family:lato\,sans-serif\; font-size:17px">Ballet Hartford presents a classical bill with excerpts from Act II of Giselle alongside classical work created by choreographers Leyna Doran\, Stephanie Gagliardi\, and Kevin Jenkins. Classical variations performed by Ballet Hartford&rsquo\;s Pre-Professional Division will be interspersed throughout the performance.&nbsp\;</span>
LOCATION:EcoSpace 224 Farmington Ave Hartford CT 06105
UID:e.3150.9317
SEQUENCE:3
DTSTAMP:20260425T203321Z
URL:https://business.whchamber.com/events/details/a-classical-evening-matinee-performance-9317
END:VEVENT

END:VCALENDAR
